BEGIN:VCALENDAR
VERSION:2.0
PRODID:-//spbstu.ru//ical//RU
NAME:Расписание группы 3733802/52601
X-WR-CALNAME:Расписание группы 3733802/52601
TIMEZONE-ID:Europe/Moscow
X-WR-TIMEZONE:Europe/Moscow
BEGIN:VEVENT
UID:6h7v@192.168.245.71:3006
SEQUENCE:0
DTSTAMP:20260421T115243Z
DTSTART:20260511T070000Z
DTEND:20260511T084000Z
SUMMARY:Макроэкономика (на английском языке)
LOCATION:50 уч.к 1421
END:VEVENT
BEGIN:VEVENT
UID:8kxy@192.168.245.71:3006
SEQUENCE:0
DTSTAMP:20260421T115243Z
DTSTART:20260511T090000Z
DTEND:20260511T104000Z
SUMMARY:Макроэкономика (на английском языке)
LOCATION:50 уч.к 1243
END:VEVENT
BEGIN:VEVENT
UID:u3yy@192.168.245.71:3006
SEQUENCE:0
DTSTAMP:20260421T115243Z
DTSTART:20260511T110000Z
DTEND:20260511T124000Z
SUMMARY:Высшая математика (на английском языке)
LOCATION:50 уч.к 1214
END:VEVENT
BEGIN:VEVENT
UID:im6a@192.168.245.71:3006
SEQUENCE:0
DTSTAMP:20260421T115243Z
DTSTART:20260511T130000Z
DTEND:20260511T144000Z
SUMMARY:Экономика предприятия (на английском языке)
LOCATION:50 уч.к 1214
END:VEVENT
BEGIN:VEVENT
UID:alzt@192.168.245.71:3006
SEQUENCE:0
DTSTAMP:20260421T115243Z
DTSTART:20260512T050000Z
DTEND:20260512T064000Z
SUMMARY:Элективная  физическая культура и спорт
LOCATION:СК Спортивный зал
END:VEVENT
BEGIN:VEVENT
UID:wlt6@192.168.245.71:3006
SEQUENCE:0
DTSTAMP:20260421T115243Z
DTSTART:20260513T070000Z
DTEND:20260513T084000Z
SUMMARY:Высшая математика (на английском языке)
LOCATION:50 уч.к 1233
END:VEVENT
BEGIN:VEVENT
UID:89jo@192.168.245.71:3006
SEQUENCE:0
DTSTAMP:20260421T115243Z
DTSTART:20260515T050000Z
DTEND:20260515T064000Z
SUMMARY:Основы государственной регламентации деятельности организации (на 
 английском языке)
LOCATION:50 уч.к 1251
END:VEVENT
BEGIN:VEVENT
UID:fpcm@192.168.245.71:3006
SEQUENCE:0
DTSTAMP:20260421T115243Z
DTSTART:20260515T070000Z
DTEND:20260515T084000Z
SUMMARY:Элективная  физическая культура и спорт
LOCATION:СК Спортивный зал
END:VEVENT
BEGIN:VEVENT
UID:2w3h@192.168.245.71:3006
SEQUENCE:0
DTSTAMP:20260421T115243Z
DTSTART:20260515T090000Z
DTEND:20260515T104000Z
SUMMARY:История России (на английском языке)
LOCATION:50 уч.к 1421
END:VEVENT
END:VCALENDAR