BEGIN:VCALENDAR
VERSION:2.0
PRODID:-//spbstu.ru//ical//RU
NAME:Расписание группы 3733802/52602
X-WR-CALNAME:Расписание группы 3733802/52602
TIMEZONE-ID:Europe/Moscow
X-WR-TIMEZONE:Europe/Moscow
BEGIN:VEVENT
UID:g09p@192.168.245.71:3006
SEQUENCE:0
DTSTAMP:20260422T074120Z
DTSTART:20260622T070000Z
DTEND:20260622T103000Z
SUMMARY:Экономика предприятия (на английском языке)
LOCATION:50 уч.к 1234
END:VEVENT
END:VCALENDAR