BEGIN:VCALENDAR
VERSION:2.0
PRODID:-//spbstu.ru//ical//RU
NAME:Расписание группы 3733802/52602
X-WR-CALNAME:Расписание группы 3733802/52602
TIMEZONE-ID:Europe/Moscow
X-WR-TIMEZONE:Europe/Moscow
BEGIN:VEVENT
UID:okrz@192.168.245.71:3006
SEQUENCE:0
DTSTAMP:20260422T060348Z
DTSTART:20260608T110000Z
DTEND:20260608T120000Z
SUMMARY:Макроэкономика (на английском языке)
LOCATION:50 уч.к 1243
END:VEVENT
BEGIN:VEVENT
UID:woki@192.168.245.71:3006
SEQUENCE:0
DTSTAMP:20260422T060348Z
DTSTART:20260610T120000Z
DTEND:20260610T153000Z
SUMMARY:Макроэкономика (на английском языке)
LOCATION:50 уч.к 1249
END:VEVENT
END:VCALENDAR