BEGIN:VCALENDAR
VERSION:2.0
PRODID:-//spbstu.ru//ical//RU
NAME:Расписание группы 3733805/50004
X-WR-CALNAME:Расписание группы 3733805/50004
TIMEZONE-ID:Europe/Moscow
X-WR-TIMEZONE:Europe/Moscow
BEGIN:VEVENT
UID:rh8s@192.168.245.71:3006
SEQUENCE:0
DTSTAMP:20260425T223024Z
DTSTART:20251117T090000Z
DTEND:20251117T104000Z
SUMMARY:Основы российской государственности
LOCATION:50 уч.к 1251
END:VEVENT
BEGIN:VEVENT
UID:nn9a@192.168.245.71:3006
SEQUENCE:0
DTSTAMP:20260425T223024Z
DTSTART:20251117T110000Z
DTEND:20251117T124000Z
SUMMARY:Информационные системы и технологии
LOCATION:50 уч.к 1104
END:VEVENT
BEGIN:VEVENT
UID:gpty@192.168.245.71:3006
SEQUENCE:0
DTSTAMP:20260425T223024Z
DTSTART:20251117T150000Z
DTEND:20251117T164000Z
SUMMARY:Иностранный язык: Русский язык как иностранный
LOCATION:16 к. 403
END:VEVENT
BEGIN:VEVENT
UID:mnrt@192.168.245.71:3006
SEQUENCE:0
DTSTAMP:20260425T223024Z
DTSTART:20251118T050000Z
DTEND:20251118T064000Z
SUMMARY:Элективная физическая культура и спорт
LOCATION:СК Спортивный зал
END:VEVENT
BEGIN:VEVENT
UID:w4bh@192.168.245.71:3006
SEQUENCE:0
DTSTAMP:20260425T223024Z
DTSTART:20251119T070000Z
DTEND:20251119T084000Z
SUMMARY:Высшая математика
LOCATION:50 уч.к 1235
END:VEVENT
BEGIN:VEVENT
UID:kaom@192.168.245.71:3006
SEQUENCE:0
DTSTAMP:20260425T223024Z
DTSTART:20251119T090000Z
DTEND:20251119T104000Z
SUMMARY:Микроэкономика
LOCATION:50 уч.к 1325
END:VEVENT
BEGIN:VEVENT
UID:iemv@192.168.245.71:3006
SEQUENCE:0
DTSTAMP:20260425T223024Z
DTSTART:20251120T090000Z
DTEND:20251120T104000Z
SUMMARY:Высшая математика
LOCATION:50 уч.к 1214
END:VEVENT
BEGIN:VEVENT
UID:ziyx@192.168.245.71:3006
SEQUENCE:0
DTSTAMP:20260425T223024Z
DTSTART:20251120T110000Z
DTEND:20251120T124000Z
SUMMARY:Введение в профессиональную деятельность
LOCATION:50 уч.к 1111
END:VEVENT
BEGIN:VEVENT
UID:so4e@192.168.245.71:3006
SEQUENCE:0
DTSTAMP:20260425T223024Z
DTSTART:20251120T130000Z
DTEND:20251120T144000Z
SUMMARY:Творческие семестры
LOCATION:ГЗ Белый зал
END:VEVENT
BEGIN:VEVENT
UID:ndyp@192.168.245.71:3006
SEQUENCE:0
DTSTAMP:20260425T223024Z
DTSTART:20251121T050000Z
DTEND:20251121T064000Z
SUMMARY:Иностранный язык: Русский язык как иностранный
LOCATION:16 к. 410
END:VEVENT
BEGIN:VEVENT
UID:fclt@192.168.245.71:3006
SEQUENCE:0
DTSTAMP:20260425T223024Z
DTSTART:20251121T050000Z
DTEND:20251121T064000Z
SUMMARY:Иностранный язык: Базовый курс
LOCATION:16 к. 403
END:VEVENT
BEGIN:VEVENT
UID:mut5@192.168.245.71:3006
SEQUENCE:0
DTSTAMP:20260425T223024Z
DTSTART:20251121T070000Z
DTEND:20251121T084000Z
SUMMARY:Элективная физическая культура и спорт
LOCATION:СК Спортивный зал
END:VEVENT
BEGIN:VEVENT
UID:557s@192.168.245.71:3006
SEQUENCE:0
DTSTAMP:20260425T223024Z
DTSTART:20251121T130000Z
DTEND:20251121T151500Z
SUMMARY:Русский язык как иностранный
LOCATION:15 к. 420
END:VEVENT
BEGIN:VEVENT
UID:n310@192.168.245.71:3006
SEQUENCE:0
DTSTAMP:20260425T223024Z
DTSTART:20251121T130000Z
DTEND:20251121T151500Z
SUMMARY:Русский язык как иностранный
LOCATION:15 к. 628
END:VEVENT
BEGIN:VEVENT
UID:1yrv@192.168.245.71:3006
SEQUENCE:0
DTSTAMP:20260425T223024Z
DTSTART:20251122T090000Z
DTEND:20251122T104000Z
SUMMARY:Микроэкономика
LOCATION:ГЗ 235
END:VEVENT
BEGIN:VEVENT
UID:t6gt@192.168.245.71:3006
SEQUENCE:0
DTSTAMP:20260425T223024Z
DTSTART:20251122T110000Z
DTEND:20251122T131500Z
SUMMARY:Русский язык как иностранный
LOCATION:15 к. 628
END:VEVENT
END:VCALENDAR