BEGIN:VCALENDAR
VERSION:2.0
PRODID:-//spbstu.ru//ical//RU
NAME:Расписание группы 3733805/50004
X-WR-CALNAME:Расписание группы 3733805/50004
TIMEZONE-ID:Europe/Moscow
X-WR-TIMEZONE:Europe/Moscow
BEGIN:VEVENT
UID:v5aq@192.168.245.71:3006
SEQUENCE:0
DTSTAMP:20260422T124219Z
DTSTART:20260602T070000Z
DTEND:20260602T094000Z
SUMMARY:История России
LOCATION:50 уч.к 1233
END:VEVENT
BEGIN:VEVENT
UID:ldlf@192.168.245.71:3006
SEQUENCE:0
DTSTAMP:20260422T124219Z
DTSTART:20260603T070000Z
DTEND:20260603T084000Z
SUMMARY:Ознакомительная практика
LOCATION:50 уч.к 1226
END:VEVENT
BEGIN:VEVENT
UID:y7k4@192.168.245.71:3006
SEQUENCE:0
DTSTAMP:20260422T124219Z
DTSTART:20260603T110000Z
DTEND:20260603T144000Z
SUMMARY:Иностранный язык: Русский язык как иностранный
LOCATION:50 уч.к 1243
END:VEVENT
BEGIN:VEVENT
UID:h8aq@192.168.245.71:3006
SEQUENCE:0
DTSTAMP:20260422T124219Z
DTSTART:20260604T090000Z
DTEND:20260604T104000Z
SUMMARY:Макроэкономика
LOCATION:50 уч.к 1251
END:VEVENT
BEGIN:VEVENT
UID:4s18@192.168.245.71:3006
SEQUENCE:0
DTSTAMP:20260422T124219Z
DTSTART:20260605T130000Z
DTEND:20260605T144000Z
SUMMARY:Экономика предприятия
LOCATION:50 уч.к 1104
END:VEVENT
END:VCALENDAR