BEGIN:VCALENDAR
VERSION:2.0
PRODID:-//spbstu.ru//ical//RU
NAME:Расписание группы 3733806/50001
X-WR-CALNAME:Расписание группы 3733806/50001
TIMEZONE-ID:Europe/Moscow
X-WR-TIMEZONE:Europe/Moscow
BEGIN:VEVENT
UID:frej@192.168.245.71:3006
SEQUENCE:0
DTSTAMP:20260424T172551Z
DTSTART:20251103T070000Z
DTEND:20251103T084000Z
SUMMARY:Высшая математика
LOCATION:50 уч.к 1331
END:VEVENT
BEGIN:VEVENT
UID:8qmc@192.168.245.71:3006
SEQUENCE:0
DTSTAMP:20260424T172551Z
DTSTART:20251103T090000Z
DTEND:20251103T104000Z
SUMMARY:Высшая математика
LOCATION:50 уч.к 1214
END:VEVENT
BEGIN:VEVENT
UID:xi8n@192.168.245.71:3006
SEQUENCE:0
DTSTAMP:20260424T172551Z
DTSTART:20251105T050000Z
DTEND:20251105T064000Z
SUMMARY:Иностранный язык: Базовый курс
LOCATION:16 к. 401
END:VEVENT
BEGIN:VEVENT
UID:hi4q@192.168.245.71:3006
SEQUENCE:0
DTSTAMP:20260424T172551Z
DTSTART:20251105T070000Z
DTEND:20251105T084000Z
SUMMARY:Элективная физическая культура и спорт
LOCATION:СК Спортивный зал
END:VEVENT
BEGIN:VEVENT
UID:parl@192.168.245.71:3006
SEQUENCE:0
DTSTAMP:20260424T172551Z
DTSTART:20251105T090000Z
DTEND:20251105T104000Z
SUMMARY:Микроэкономика
LOCATION:ГЗ 215
END:VEVENT
BEGIN:VEVENT
UID:d91r@192.168.245.71:3006
SEQUENCE:0
DTSTAMP:20260424T172551Z
DTSTART:20251105T130000Z
DTEND:20251105T144000Z
SUMMARY:Основы российской государственности
LOCATION:DL Дистанционно
END:VEVENT
BEGIN:VEVENT
UID:9hte@192.168.245.71:3006
SEQUENCE:0
DTSTAMP:20260424T172551Z
DTSTART:20251106T050000Z
DTEND:20251106T064000Z
SUMMARY:Иностранный язык: Русский язык как иностранный
LOCATION:16 к. 403
END:VEVENT
BEGIN:VEVENT
UID:al5k@192.168.245.71:3006
SEQUENCE:0
DTSTAMP:20260424T172551Z
DTSTART:20251106T130000Z
DTEND:20251106T144000Z
SUMMARY:Творческие семестры
LOCATION:ГЗ Белый зал
END:VEVENT
BEGIN:VEVENT
UID:4hb6@192.168.245.71:3006
SEQUENCE:0
DTSTAMP:20260424T172551Z
DTSTART:20251107T050000Z
DTEND:20251107T064000Z
SUMMARY:Информационные системы и технологии
LOCATION:50 уч.к 1103
END:VEVENT
BEGIN:VEVENT
UID:g4u5@192.168.245.71:3006
SEQUENCE:0
DTSTAMP:20260424T172551Z
DTSTART:20251107T070000Z
DTEND:20251107T084000Z
SUMMARY:Микроэкономика
LOCATION:50 уч.к 1324
END:VEVENT
BEGIN:VEVENT
UID:dbmi@192.168.245.71:3006
SEQUENCE:0
DTSTAMP:20260424T172551Z
DTSTART:20251107T130000Z
DTEND:20251107T151500Z
SUMMARY:Русский язык как иностранный
LOCATION:15 к. 420
END:VEVENT
BEGIN:VEVENT
UID:fu2a@192.168.245.71:3006
SEQUENCE:0
DTSTAMP:20260424T172551Z
DTSTART:20251107T130000Z
DTEND:20251107T151500Z
SUMMARY:Русский язык как иностранный
LOCATION:15 к. 628
END:VEVENT
BEGIN:VEVENT
UID:h9ig@192.168.245.71:3006
SEQUENCE:0
DTSTAMP:20260424T172551Z
DTSTART:20251108T050000Z
DTEND:20251108T064000Z
SUMMARY:Элективная физическая культура и спорт
LOCATION:СК Спортивный зал
END:VEVENT
BEGIN:VEVENT
UID:zyam@192.168.245.71:3006
SEQUENCE:0
DTSTAMP:20260424T172551Z
DTSTART:20251108T090000Z
DTEND:20251108T104000Z
SUMMARY:Основы российской государственности
LOCATION:50 уч.к 1249
END:VEVENT
BEGIN:VEVENT
UID:vjc5@192.168.245.71:3006
SEQUENCE:0
DTSTAMP:20260424T172551Z
DTSTART:20251108T130000Z
DTEND:20251108T151500Z
SUMMARY:Русский язык как иностранный
LOCATION:15 к. 303
END:VEVENT
END:VCALENDAR