BEGIN:VCALENDAR
VERSION:2.0
PRODID:-//spbstu.ru//ical//RU
NAME:Расписание группы 3733806/50001
X-WR-CALNAME:Расписание группы 3733806/50001
TIMEZONE-ID:Europe/Moscow
X-WR-TIMEZONE:Europe/Moscow
BEGIN:VEVENT
UID:yuij@192.168.245.71:3006
SEQUENCE:0
DTSTAMP:20260423T145458Z
DTSTART:20251222T070000Z
DTEND:20251222T084000Z
SUMMARY:Основы российской государственности
LOCATION:50 уч.к 1324
END:VEVENT
BEGIN:VEVENT
UID:7k4h@192.168.245.71:3006
SEQUENCE:0
DTSTAMP:20260423T145458Z
DTSTART:20251222T130000Z
DTEND:20251222T144000Z
SUMMARY:Русский язык как иностранный
LOCATION:15 к. 318
END:VEVENT
BEGIN:VEVENT
UID:vwed@192.168.245.71:3006
SEQUENCE:0
DTSTAMP:20260423T145458Z
DTSTART:20251222T130000Z
DTEND:20251222T144000Z
SUMMARY:Русский язык как иностранный
LOCATION:15 к. 628
END:VEVENT
BEGIN:VEVENT
UID:x0to@192.168.245.71:3006
SEQUENCE:0
DTSTAMP:20260423T145458Z
DTSTART:20251223T070000Z
DTEND:20251223T084000Z
SUMMARY:Введение в профессиональную деятельность
LOCATION:50 уч.к 1425
END:VEVENT
BEGIN:VEVENT
UID:0s7z@192.168.245.71:3006
SEQUENCE:0
DTSTAMP:20260423T145458Z
DTSTART:20251224T070000Z
DTEND:20251224T084000Z
SUMMARY:Основы цифровых технологий
LOCATION:50 уч.к 1205
END:VEVENT
BEGIN:VEVENT
UID:4y2v@192.168.245.71:3006
SEQUENCE:0
DTSTAMP:20260423T145458Z
DTSTART:20251225T070000Z
DTEND:20251225T084000Z
SUMMARY:Введение в экономическую теорию
LOCATION:50 уч.к 1425
END:VEVENT
BEGIN:VEVENT
UID:tc2n@192.168.245.71:3006
SEQUENCE:0
DTSTAMP:20260423T145458Z
DTSTART:20251226T070000Z
DTEND:20251226T084000Z
SUMMARY:Высшая математика
LOCATION:50 уч.к 1326
END:VEVENT
END:VCALENDAR