BEGIN:VCALENDAR
VERSION:2.0
PRODID:-//spbstu.ru//ical//RU
NAME:Расписание группы 3733806/50001
X-WR-CALNAME:Расписание группы 3733806/50001
TIMEZONE-ID:Europe/Moscow
X-WR-TIMEZONE:Europe/Moscow
BEGIN:VEVENT
UID:731u@192.168.245.71:3006
SEQUENCE:0
DTSTAMP:20260422T063832Z
DTSTART:20260302T070000Z
DTEND:20260302T084000Z
SUMMARY:Цифровые средства обработки данных
LOCATION:50 уч.к 1104
END:VEVENT
BEGIN:VEVENT
UID:0rnv@192.168.245.71:3006
SEQUENCE:0
DTSTAMP:20260422T063832Z
DTSTART:20260302T090000Z
DTEND:20260302T104000Z
SUMMARY:Высшая математика
LOCATION:50 уч.к 1235
END:VEVENT
BEGIN:VEVENT
UID:umez@192.168.245.71:3006
SEQUENCE:0
DTSTAMP:20260422T063832Z
DTSTART:20260302T110000Z
DTEND:20260302T124000Z
SUMMARY:Макроэкономика
LOCATION:50 уч.к 1327
END:VEVENT
BEGIN:VEVENT
UID:bj9w@192.168.245.71:3006
SEQUENCE:0
DTSTAMP:20260422T063832Z
DTSTART:20260303T150000Z
DTEND:20260303T164000Z
SUMMARY:Иностранный язык: Русский язык как иностранный
LOCATION:50 уч.к 1234
END:VEVENT
BEGIN:VEVENT
UID:9bzj@192.168.245.71:3006
SEQUENCE:0
DTSTAMP:20260422T063832Z
DTSTART:20260304T070000Z
DTEND:20260304T084000Z
SUMMARY:Элективная  физическая культура и спорт
LOCATION:СК Спортивный зал
END:VEVENT
BEGIN:VEVENT
UID:b1d0@192.168.245.71:3006
SEQUENCE:0
DTSTAMP:20260422T063832Z
DTSTART:20260304T090000Z
DTEND:20260304T104000Z
SUMMARY:Цифровые средства обработки данных
LOCATION:ГЗ 257
END:VEVENT
BEGIN:VEVENT
UID:ha0x@192.168.245.71:3006
SEQUENCE:0
DTSTAMP:20260422T063832Z
DTSTART:20260305T070000Z
DTEND:20260305T084000Z
SUMMARY:Высшая математика
LOCATION:50 уч.к 1214
END:VEVENT
BEGIN:VEVENT
UID:7le2@192.168.245.71:3006
SEQUENCE:0
DTSTAMP:20260422T063832Z
DTSTART:20260305T090000Z
DTEND:20260305T104000Z
SUMMARY:Макроэкономика
LOCATION:50 уч.к 1214
END:VEVENT
BEGIN:VEVENT
UID:letc@192.168.245.71:3006
SEQUENCE:0
DTSTAMP:20260422T063832Z
DTSTART:20260305T110000Z
DTEND:20260305T124000Z
SUMMARY:Основы государственной регламентации деятельности организации
LOCATION:50 уч.к 1214
END:VEVENT
BEGIN:VEVENT
UID:1z6z@192.168.245.71:3006
SEQUENCE:0
DTSTAMP:20260422T063832Z
DTSTART:20260306T070000Z
DTEND:20260306T084000Z
SUMMARY:Высшая математика
LOCATION:50 уч.к 1327
END:VEVENT
BEGIN:VEVENT
UID:xjhr@192.168.245.71:3006
SEQUENCE:0
DTSTAMP:20260422T063832Z
DTSTART:20260306T090000Z
DTEND:20260306T104000Z
SUMMARY:Экономика предприятия
LOCATION:50 уч.к 1239
END:VEVENT
BEGIN:VEVENT
UID:zzof@192.168.245.71:3006
SEQUENCE:0
DTSTAMP:20260422T063832Z
DTSTART:20260306T110000Z
DTEND:20260306T124000Z
SUMMARY:История России
LOCATION:50 уч.к 1418
END:VEVENT
BEGIN:VEVENT
UID:ipma@192.168.245.71:3006
SEQUENCE:0
DTSTAMP:20260422T063832Z
DTSTART:20260307T050000Z
DTEND:20260307T064000Z
SUMMARY:Элективная  физическая культура и спорт
LOCATION:СК Спортивный зал
END:VEVENT
BEGIN:VEVENT
UID:uswl@192.168.245.71:3006
SEQUENCE:0
DTSTAMP:20260422T063832Z
DTSTART:20260307T070000Z
DTEND:20260307T084000Z
SUMMARY:Иностранный язык: Базовый курс
LOCATION:16 к. 401
END:VEVENT
BEGIN:VEVENT
UID:6xf5@192.168.245.71:3006
SEQUENCE:0
DTSTAMP:20260422T063832Z
DTSTART:20260307T110000Z
DTEND:20260307T124000Z
SUMMARY:Иностранный язык: Русский язык как иностранный
LOCATION:50 уч.к 1233
END:VEVENT
BEGIN:VEVENT
UID:rjg3@192.168.245.71:3006
SEQUENCE:0
DTSTAMP:20260422T063832Z
DTSTART:20260307T110000Z
DTEND:20260307T124000Z
SUMMARY:Иностранный язык: Русский язык как иностранный
LOCATION:50 уч.к 1233
END:VEVENT
END:VCALENDAR