BEGIN:VCALENDAR
VERSION:2.0
PRODID:-//spbstu.ru//ical//RU
NAME:Расписание группы 3733806/50001
X-WR-CALNAME:Расписание группы 3733806/50001
TIMEZONE-ID:Europe/Moscow
X-WR-TIMEZONE:Europe/Moscow
BEGIN:VEVENT
UID:pbm6@192.168.245.71:3006
SEQUENCE:0
DTSTAMP:20260422T032337Z
DTSTART:20260310T150000Z
DTEND:20260310T164000Z
SUMMARY:Иностранный язык: Русский язык как иностранный
LOCATION:50 уч.к 1234
END:VEVENT
BEGIN:VEVENT
UID:c2gp@192.168.245.71:3006
SEQUENCE:0
DTSTAMP:20260422T032337Z
DTSTART:20260311T050000Z
DTEND:20260311T064000Z
SUMMARY:История России
LOCATION:ГЗ 235
END:VEVENT
BEGIN:VEVENT
UID:odtx@192.168.245.71:3006
SEQUENCE:0
DTSTAMP:20260422T032337Z
DTSTART:20260311T070000Z
DTEND:20260311T084000Z
SUMMARY:Элективная  физическая культура и спорт
LOCATION:СК Спортивный зал
END:VEVENT
BEGIN:VEVENT
UID:318k@192.168.245.71:3006
SEQUENCE:0
DTSTAMP:20260422T032337Z
DTSTART:20260311T090000Z
DTEND:20260311T104000Z
SUMMARY:Экономика предприятия
LOCATION:ГЗ 257
END:VEVENT
BEGIN:VEVENT
UID:4sdm@192.168.245.71:3006
SEQUENCE:0
DTSTAMP:20260422T032337Z
DTSTART:20260311T110000Z
DTEND:20260311T124000Z
SUMMARY:Учебная практика/Ознакомительная практика
LOCATION:50 уч.к 1243
END:VEVENT
BEGIN:VEVENT
UID:92ut@192.168.245.71:3006
SEQUENCE:0
DTSTAMP:20260422T032337Z
DTSTART:20260312T070000Z
DTEND:20260312T084000Z
SUMMARY:Высшая математика
LOCATION:50 уч.к 1214
END:VEVENT
BEGIN:VEVENT
UID:fra9@192.168.245.71:3006
SEQUENCE:0
DTSTAMP:20260422T032337Z
DTSTART:20260312T090000Z
DTEND:20260312T104000Z
SUMMARY:Макроэкономика
LOCATION:50 уч.к 1214
END:VEVENT
BEGIN:VEVENT
UID:et3v@192.168.245.71:3006
SEQUENCE:0
DTSTAMP:20260422T032337Z
DTSTART:20260313T070000Z
DTEND:20260313T084000Z
SUMMARY:Основы государственной регламентации деятельности организации
LOCATION:50 уч.к 1326
END:VEVENT
BEGIN:VEVENT
UID:nlhg@192.168.245.71:3006
SEQUENCE:0
DTSTAMP:20260422T032337Z
DTSTART:20260313T090000Z
DTEND:20260313T104000Z
SUMMARY:Экономика предприятия
LOCATION:50 уч.к 1239
END:VEVENT
BEGIN:VEVENT
UID:9sn2@192.168.245.71:3006
SEQUENCE:0
DTSTAMP:20260422T032337Z
DTSTART:20260313T110000Z
DTEND:20260313T124000Z
SUMMARY:История России
LOCATION:50 уч.к 1418
END:VEVENT
BEGIN:VEVENT
UID:63xn@192.168.245.71:3006
SEQUENCE:0
DTSTAMP:20260422T032337Z
DTSTART:20260314T050000Z
DTEND:20260314T064000Z
SUMMARY:Элективная  физическая культура и спорт
LOCATION:СК Спортивный зал
END:VEVENT
BEGIN:VEVENT
UID:vj7i@192.168.245.71:3006
SEQUENCE:0
DTSTAMP:20260422T032337Z
DTSTART:20260314T070000Z
DTEND:20260314T084000Z
SUMMARY:Иностранный язык: Базовый курс
LOCATION:16 к. 401
END:VEVENT
BEGIN:VEVENT
UID:xi04@192.168.245.71:3006
SEQUENCE:0
DTSTAMP:20260422T032337Z
DTSTART:20260314T110000Z
DTEND:20260314T124000Z
SUMMARY:Иностранный язык: Русский язык как иностранный
LOCATION:50 уч.к 1233
END:VEVENT
BEGIN:VEVENT
UID:benw@192.168.245.71:3006
SEQUENCE:0
DTSTAMP:20260422T032337Z
DTSTART:20260314T110000Z
DTEND:20260314T124000Z
SUMMARY:Иностранный язык: Русский язык как иностранный
LOCATION:50 уч.к 1233
END:VEVENT
END:VCALENDAR