BEGIN:VCALENDAR
VERSION:2.0
PRODID:-//spbstu.ru//ical//RU
NAME:Расписание группы 3733806/50002
X-WR-CALNAME:Расписание группы 3733806/50002
TIMEZONE-ID:Europe/Moscow
X-WR-TIMEZONE:Europe/Moscow
BEGIN:VEVENT
UID:2yb7@192.168.245.71:3006
SEQUENCE:0
DTSTAMP:20260423T173648Z
DTSTART:20251229T090000Z
DTEND:20251229T104000Z
SUMMARY:Микроэкономика
LOCATION:50 уч.к 1328
END:VEVENT
END:VCALENDAR