BEGIN:VCALENDAR
VERSION:2.0
PRODID:-//spbstu.ru//ical//RU
NAME:Расписание группы 3733806/50002
X-WR-CALNAME:Расписание группы 3733806/50002
TIMEZONE-ID:Europe/Moscow
X-WR-TIMEZONE:Europe/Moscow
BEGIN:VEVENT
UID:zzjm@192.168.245.71:3006
SEQUENCE:0
DTSTAMP:20260422T104735Z
DTSTART:20260216T090000Z
DTEND:20260216T104000Z
SUMMARY:Цифровые средства обработки данных
LOCATION:50 уч.к 1104
END:VEVENT
BEGIN:VEVENT
UID:p6uf@192.168.245.71:3006
SEQUENCE:0
DTSTAMP:20260422T104735Z
DTSTART:20260216T110000Z
DTEND:20260216T124000Z
SUMMARY:Высшая математика
LOCATION:50 уч.к 1235
END:VEVENT
BEGIN:VEVENT
UID:ay5h@192.168.245.71:3006
SEQUENCE:0
DTSTAMP:20260422T104735Z
DTSTART:20260216T130000Z
DTEND:20260216T144000Z
SUMMARY:Экономика предприятия
LOCATION:50 уч.к 1226
END:VEVENT
BEGIN:VEVENT
UID:flkl@192.168.245.71:3006
SEQUENCE:0
DTSTAMP:20260422T104735Z
DTSTART:20260216T150000Z
DTEND:20260216T164000Z
SUMMARY:Введение в экономическую теорию
LOCATION:50 уч.к 1317
END:VEVENT
BEGIN:VEVENT
UID:ug31@192.168.245.71:3006
SEQUENCE:0
DTSTAMP:20260422T104735Z
DTSTART:20260217T150000Z
DTEND:20260217T164000Z
SUMMARY:Иностранный язык: Русский язык как иностранный
LOCATION:50 уч.к 1234
END:VEVENT
BEGIN:VEVENT
UID:7mbg@192.168.245.71:3006
SEQUENCE:0
DTSTAMP:20260422T104735Z
DTSTART:20260217T150000Z
DTEND:20260217T164000Z
SUMMARY:Русский язык как иностранный
LOCATION:15 к. 628
END:VEVENT
BEGIN:VEVENT
UID:sups@192.168.245.71:3006
SEQUENCE:0
DTSTAMP:20260422T104735Z
DTSTART:20260218T070000Z
DTEND:20260218T084000Z
SUMMARY:Элективная  физическая культура и спорт
LOCATION:СК Спортивный зал
END:VEVENT
BEGIN:VEVENT
UID:a5av@192.168.245.71:3006
SEQUENCE:0
DTSTAMP:20260422T104735Z
DTSTART:20260218T090000Z
DTEND:20260218T104000Z
SUMMARY:Цифровые средства обработки данных
LOCATION:ГЗ 257
END:VEVENT
BEGIN:VEVENT
UID:nocx@192.168.245.71:3006
SEQUENCE:0
DTSTAMP:20260422T104735Z
DTSTART:20260218T130000Z
DTEND:20260218T144000Z
SUMMARY:Информационные системы и технологии
LOCATION:50 уч.к 1204
END:VEVENT
BEGIN:VEVENT
UID:nyfp@192.168.245.71:3006
SEQUENCE:0
DTSTAMP:20260422T104735Z
DTSTART:20260218T150000Z
DTEND:20260218T164000Z
SUMMARY:Микроэкономика
LOCATION:50 уч.к 1223
END:VEVENT
BEGIN:VEVENT
UID:yxn6@192.168.245.71:3006
SEQUENCE:0
DTSTAMP:20260422T104735Z
DTSTART:20260219T050000Z
DTEND:20260219T064000Z
SUMMARY:Высшая математика
LOCATION:50 уч.к 1214
END:VEVENT
BEGIN:VEVENT
UID:9mde@192.168.245.71:3006
SEQUENCE:0
DTSTAMP:20260422T104735Z
DTSTART:20260219T070000Z
DTEND:20260219T084000Z
SUMMARY:Высшая математика
LOCATION:50 уч.к 1214
END:VEVENT
BEGIN:VEVENT
UID:vbz9@192.168.245.71:3006
SEQUENCE:0
DTSTAMP:20260422T104735Z
DTSTART:20260219T090000Z
DTEND:20260219T104000Z
SUMMARY:Макроэкономика
LOCATION:50 уч.к 1214
END:VEVENT
BEGIN:VEVENT
UID:wp2r@192.168.245.71:3006
SEQUENCE:0
DTSTAMP:20260422T104735Z
DTSTART:20260219T110000Z
DTEND:20260219T124000Z
SUMMARY:Основы государственной регламентации деятельности организации
LOCATION:50 уч.к 1214
END:VEVENT
BEGIN:VEVENT
UID:e98y@192.168.245.71:3006
SEQUENCE:0
DTSTAMP:20260422T104735Z
DTSTART:20260219T150000Z
DTEND:20260219T164000Z
SUMMARY:Введение в профессиональную деятельность
LOCATION:50 уч.к 2506
END:VEVENT
BEGIN:VEVENT
UID:kh0f@192.168.245.71:3006
SEQUENCE:0
DTSTAMP:20260422T104735Z
DTSTART:20260220T090000Z
DTEND:20260220T104000Z
SUMMARY:История России
LOCATION:50 уч.к 1428
END:VEVENT
BEGIN:VEVENT
UID:lh5q@192.168.245.71:3006
SEQUENCE:0
DTSTAMP:20260422T104735Z
DTSTART:20260220T110000Z
DTEND:20260220T124000Z
SUMMARY:Макроэкономика
LOCATION:50 уч.к 1325
END:VEVENT
BEGIN:VEVENT
UID:c1sz@192.168.245.71:3006
SEQUENCE:0
DTSTAMP:20260422T104735Z
DTSTART:20260220T130000Z
DTEND:20260220T144000Z
SUMMARY:Основы государственной регламентации деятельности организации
LOCATION:50 уч.к 1218
END:VEVENT
BEGIN:VEVENT
UID:g2hm@192.168.245.71:3006
SEQUENCE:0
DTSTAMP:20260422T104735Z
DTSTART:20260220T130000Z
DTEND:20260220T144000Z
SUMMARY:Иностранный язык: Базовый курс
LOCATION:50 уч.к 1245
END:VEVENT
BEGIN:VEVENT
UID:izmi@192.168.245.71:3006
SEQUENCE:0
DTSTAMP:20260422T104735Z
DTSTART:20260220T150000Z
DTEND:20260220T164000Z
SUMMARY:Философия
LOCATION:50 уч.к 1251
END:VEVENT
BEGIN:VEVENT
UID:saxy@192.168.245.71:3006
SEQUENCE:0
DTSTAMP:20260422T104735Z
DTSTART:20260221T050000Z
DTEND:20260221T064000Z
SUMMARY:Элективная  физическая культура и спорт
LOCATION:СК Спортивный зал
END:VEVENT
BEGIN:VEVENT
UID:jnpn@192.168.245.71:3006
SEQUENCE:0
DTSTAMP:20260422T104735Z
DTSTART:20260221T070000Z
DTEND:20260221T084000Z
SUMMARY:Иностранный язык: Базовый курс
LOCATION:16 к. 411
END:VEVENT
BEGIN:VEVENT
UID:hl05@192.168.245.71:3006
SEQUENCE:0
DTSTAMP:20260422T104735Z
DTSTART:20260221T110000Z
DTEND:20260221T124000Z
SUMMARY:Иностранный язык: Русский язык как иностранный
LOCATION:50 уч.к 1233
END:VEVENT
BEGIN:VEVENT
UID:0wci@192.168.245.71:3006
SEQUENCE:0
DTSTAMP:20260422T104735Z
DTSTART:20260221T110000Z
DTEND:20260221T124000Z
SUMMARY:Иностранный язык: Русский язык как иностранный
LOCATION:50 уч.к 1233
END:VEVENT
END:VCALENDAR