BEGIN:VCALENDAR
VERSION:2.0
PRODID:-//spbstu.ru//ical//RU
NAME:Расписание группы 3733806/50002
X-WR-CALNAME:Расписание группы 3733806/50002
TIMEZONE-ID:Europe/Moscow
X-WR-TIMEZONE:Europe/Moscow
BEGIN:VEVENT
UID:cd1n@192.168.245.71:3006
SEQUENCE:0
DTSTAMP:20260422T104733Z
DTSTART:20260224T150000Z
DTEND:20260224T164000Z
SUMMARY:Иностранный язык: Русский язык как иностранный
LOCATION:50 уч.к 1234
END:VEVENT
BEGIN:VEVENT
UID:2jxo@192.168.245.71:3006
SEQUENCE:0
DTSTAMP:20260422T104733Z
DTSTART:20260225T050000Z
DTEND:20260225T064000Z
SUMMARY:Основы цифровых технологий
LOCATION:50 уч.к 1103
END:VEVENT
BEGIN:VEVENT
UID:cite@192.168.245.71:3006
SEQUENCE:0
DTSTAMP:20260422T104733Z
DTSTART:20260225T070000Z
DTEND:20260225T084000Z
SUMMARY:Элективная  физическая культура и спорт
LOCATION:СК Спортивный зал
END:VEVENT
BEGIN:VEVENT
UID:36h4@192.168.245.71:3006
SEQUENCE:0
DTSTAMP:20260422T104733Z
DTSTART:20260225T090000Z
DTEND:20260225T104000Z
SUMMARY:Экономика предприятия
LOCATION:ГЗ 257
END:VEVENT
BEGIN:VEVENT
UID:xgk4@192.168.245.71:3006
SEQUENCE:0
DTSTAMP:20260422T104733Z
DTSTART:20260226T070000Z
DTEND:20260226T084000Z
SUMMARY:Высшая математика
LOCATION:50 уч.к 1214
END:VEVENT
BEGIN:VEVENT
UID:qr31@192.168.245.71:3006
SEQUENCE:0
DTSTAMP:20260422T104733Z
DTSTART:20260226T090000Z
DTEND:20260226T104000Z
SUMMARY:Макроэкономика
LOCATION:50 уч.к 1214
END:VEVENT
BEGIN:VEVENT
UID:9cfj@192.168.245.71:3006
SEQUENCE:0
DTSTAMP:20260422T104733Z
DTSTART:20260227T090000Z
DTEND:20260227T104000Z
SUMMARY:Концепции современного естествознания
LOCATION:50 уч.к 1232
END:VEVENT
BEGIN:VEVENT
UID:k3x7@192.168.245.71:3006
SEQUENCE:0
DTSTAMP:20260422T104733Z
DTSTART:20260227T110000Z
DTEND:20260227T124000Z
SUMMARY:Макроэкономика
LOCATION:50 уч.к 1325
END:VEVENT
BEGIN:VEVENT
UID:z6dq@192.168.245.71:3006
SEQUENCE:0
DTSTAMP:20260422T104733Z
DTSTART:20260227T130000Z
DTEND:20260227T144000Z
SUMMARY:Высшая математика
LOCATION:50 уч.к 1327
END:VEVENT
BEGIN:VEVENT
UID:h6zd@192.168.245.71:3006
SEQUENCE:0
DTSTAMP:20260422T104733Z
DTSTART:20260228T050000Z
DTEND:20260228T064000Z
SUMMARY:Элективная  физическая культура и спорт
LOCATION:СК Спортивный зал
END:VEVENT
BEGIN:VEVENT
UID:giww@192.168.245.71:3006
SEQUENCE:0
DTSTAMP:20260422T104733Z
DTSTART:20260228T070000Z
DTEND:20260228T084000Z
SUMMARY:Элективная  физическая культура и спорт
LOCATION:СК Спортивный зал
END:VEVENT
BEGIN:VEVENT
UID:zoi4@192.168.245.71:3006
SEQUENCE:0
DTSTAMP:20260422T104733Z
DTSTART:20260228T070000Z
DTEND:20260228T084000Z
SUMMARY:Иностранный язык: Базовый курс
LOCATION:16 к. 411
END:VEVENT
BEGIN:VEVENT
UID:uoui@192.168.245.71:3006
SEQUENCE:0
DTSTAMP:20260422T104733Z
DTSTART:20260228T110000Z
DTEND:20260228T124000Z
SUMMARY:Иностранный язык: Русский язык как иностранный
LOCATION:50 уч.к 1233
END:VEVENT
BEGIN:VEVENT
UID:vwgp@192.168.245.71:3006
SEQUENCE:0
DTSTAMP:20260422T104733Z
DTSTART:20260228T110000Z
DTEND:20260228T124000Z
SUMMARY:Иностранный язык: Русский язык как иностранный
LOCATION:50 уч.к 1233
END:VEVENT
END:VCALENDAR