BEGIN:VCALENDAR
VERSION:2.0
PRODID:-//spbstu.ru//ical//RU
NAME:Расписание группы 3733806/50002
X-WR-CALNAME:Расписание группы 3733806/50002
TIMEZONE-ID:Europe/Moscow
X-WR-TIMEZONE:Europe/Moscow
BEGIN:VEVENT
UID:sf06@192.168.245.71:3006
SEQUENCE:0
DTSTAMP:20260421T173457Z
DTSTART:20260525T070000Z
DTEND:20260525T094000Z
SUMMARY:Ознакомительная практика
LOCATION:50 уч.к 1324
END:VEVENT
BEGIN:VEVENT
UID:xwvm@192.168.245.71:3006
SEQUENCE:0
DTSTAMP:20260421T173457Z
DTSTART:20260526T073000Z
DTEND:20260526T080000Z
SUMMARY:Концепции современного естествознания
LOCATION:ГЗ 161
END:VEVENT
BEGIN:VEVENT
UID:yuvj@192.168.245.71:3006
SEQUENCE:0
DTSTAMP:20260421T173457Z
DTSTART:20260527T070000Z
DTEND:20260527T084000Z
SUMMARY:Элективная  физическая культура и спорт
LOCATION:СК Спортивный зал
END:VEVENT
BEGIN:VEVENT
UID:b4ij@192.168.245.71:3006
SEQUENCE:0
DTSTAMP:20260421T173457Z
DTSTART:20260527T110000Z
DTEND:20260527T124000Z
SUMMARY:Физическая культура
LOCATION:DL Дистанционно
END:VEVENT
BEGIN:VEVENT
UID:af57@192.168.245.71:3006
SEQUENCE:0
DTSTAMP:20260421T173457Z
DTSTART:20260528T070000Z
DTEND:20260528T094000Z
SUMMARY:История России
LOCATION:50 уч.к 1319
END:VEVENT
BEGIN:VEVENT
UID:dhk9@192.168.245.71:3006
SEQUENCE:0
DTSTAMP:20260421T173457Z
DTSTART:20260529T070000Z
DTEND:20260529T084000Z
SUMMARY:Цифровые средства обработки данных
LOCATION:50 уч.к 1110
END:VEVENT
BEGIN:VEVENT
UID:1jfd@192.168.245.71:3006
SEQUENCE:0
DTSTAMP:20260421T173457Z
DTSTART:20260530T070000Z
DTEND:20260530T104000Z
SUMMARY:Иностранный язык: Русский язык как иностранный
LOCATION:50 уч.к 1432
END:VEVENT
END:VCALENDAR