BEGIN:VCALENDAR
VERSION:2.0
PRODID:-//spbstu.ru//ical//RU
NAME:Расписание группы 3733806/50002
X-WR-CALNAME:Расписание группы 3733806/50002
TIMEZONE-ID:Europe/Moscow
X-WR-TIMEZONE:Europe/Moscow
BEGIN:VEVENT
UID:uk5i@192.168.245.71:3006
SEQUENCE:0
DTSTAMP:20260421T110940Z
DTSTART:20260504T090000Z
DTEND:20260504T104000Z
SUMMARY:Цифровые средства обработки данных
LOCATION:50 уч.к 1104
END:VEVENT
BEGIN:VEVENT
UID:k0mc@192.168.245.71:3006
SEQUENCE:0
DTSTAMP:20260421T110940Z
DTSTART:20260504T110000Z
DTEND:20260504T124000Z
SUMMARY:Высшая математика
LOCATION:50 уч.к 1235
END:VEVENT
BEGIN:VEVENT
UID:ksxh@192.168.245.71:3006
SEQUENCE:0
DTSTAMP:20260421T110940Z
DTSTART:20260504T130000Z
DTEND:20260504T144000Z
SUMMARY:Экономика предприятия
LOCATION:50 уч.к 1226
END:VEVENT
BEGIN:VEVENT
UID:hr4f@192.168.245.71:3006
SEQUENCE:0
DTSTAMP:20260421T110940Z
DTSTART:20260505T150000Z
DTEND:20260505T164000Z
SUMMARY:Иностранный язык: Русский язык как иностранный
LOCATION:50 уч.к 1234
END:VEVENT
BEGIN:VEVENT
UID:gw3t@192.168.245.71:3006
SEQUENCE:0
DTSTAMP:20260421T110940Z
DTSTART:20260506T050000Z
DTEND:20260506T064000Z
SUMMARY:История России
LOCATION:ГЗ 235
END:VEVENT
BEGIN:VEVENT
UID:yydl@192.168.245.71:3006
SEQUENCE:0
DTSTAMP:20260421T110940Z
DTSTART:20260506T070000Z
DTEND:20260506T084000Z
SUMMARY:Элективная  физическая культура и спорт
LOCATION:СК Спортивный зал
END:VEVENT
BEGIN:VEVENT
UID:j1mh@192.168.245.71:3006
SEQUENCE:0
DTSTAMP:20260421T110940Z
DTSTART:20260506T090000Z
DTEND:20260506T104000Z
SUMMARY:Экономика предприятия
LOCATION:ГЗ 257
END:VEVENT
BEGIN:VEVENT
UID:3df5@192.168.245.71:3006
SEQUENCE:0
DTSTAMP:20260421T110940Z
DTSTART:20260506T110000Z
DTEND:20260506T124000Z
SUMMARY:Учебная практика/Ознакомительная практика
LOCATION:50 уч.к 1243
END:VEVENT
BEGIN:VEVENT
UID:4j8w@192.168.245.71:3006
SEQUENCE:0
DTSTAMP:20260421T110940Z
DTSTART:20260507T070000Z
DTEND:20260507T084000Z
SUMMARY:Высшая математика
LOCATION:50 уч.к 1214
END:VEVENT
BEGIN:VEVENT
UID:pt9q@192.168.245.71:3006
SEQUENCE:0
DTSTAMP:20260421T110940Z
DTSTART:20260507T110000Z
DTEND:20260507T124000Z
SUMMARY:История России
LOCATION:50 уч.к 1426
END:VEVENT
BEGIN:VEVENT
UID:8vte@192.168.245.71:3006
SEQUENCE:0
DTSTAMP:20260421T110940Z
DTSTART:20260508T070000Z
DTEND:20260508T084000Z
SUMMARY:Концепции современного естествознания
LOCATION:50 уч.к 1116
END:VEVENT
BEGIN:VEVENT
UID:c7ov@192.168.245.71:3006
SEQUENCE:0
DTSTAMP:20260421T110940Z
DTSTART:20260508T090000Z
DTEND:20260508T104000Z
SUMMARY:Концепции современного естествознания
LOCATION:50 уч.к 1232
END:VEVENT
BEGIN:VEVENT
UID:fs3r@192.168.245.71:3006
SEQUENCE:0
DTSTAMP:20260421T110940Z
DTSTART:20260508T110000Z
DTEND:20260508T124000Z
SUMMARY:Макроэкономика
LOCATION:50 уч.к 1325
END:VEVENT
END:VCALENDAR