BEGIN:VCALENDAR
VERSION:2.0
PRODID:-//spbstu.ru//ical//RU
NAME:Расписание группы 3733806/50004
X-WR-CALNAME:Расписание группы 3733806/50004
TIMEZONE-ID:Europe/Moscow
X-WR-TIMEZONE:Europe/Moscow
BEGIN:VEVENT
UID:sjn2@192.168.245.71:3006
SEQUENCE:0
DTSTAMP:20260425T192634Z
DTSTART:20251110T090000Z
DTEND:20251110T104000Z
SUMMARY:Высшая математика
LOCATION:50 уч.к 1214
END:VEVENT
BEGIN:VEVENT
UID:46fk@192.168.245.71:3006
SEQUENCE:0
DTSTAMP:20260425T192634Z
DTSTART:20251110T110000Z
DTEND:20251110T124000Z
SUMMARY:Высшая математика
LOCATION:50 уч.к 1214
END:VEVENT
BEGIN:VEVENT
UID:8ffo@192.168.245.71:3006
SEQUENCE:0
DTSTAMP:20260425T192634Z
DTSTART:20251112T050000Z
DTEND:20251112T064000Z
SUMMARY:Иностранный язык: Базовый курс
LOCATION:16 к. 418
END:VEVENT
BEGIN:VEVENT
UID:b008@192.168.245.71:3006
SEQUENCE:0
DTSTAMP:20260425T192634Z
DTSTART:20251112T070000Z
DTEND:20251112T084000Z
SUMMARY:Элективная физическая культура и спорт
LOCATION:СК Спортивный зал
END:VEVENT
BEGIN:VEVENT
UID:igr6@192.168.245.71:3006
SEQUENCE:0
DTSTAMP:20260425T192634Z
DTSTART:20251112T090000Z
DTEND:20251112T104000Z
SUMMARY:Микроэкономика
LOCATION:ГЗ 215
END:VEVENT
BEGIN:VEVENT
UID:qypb@192.168.245.71:3006
SEQUENCE:0
DTSTAMP:20260425T192634Z
DTSTART:20251112T110000Z
DTEND:20251112T124000Z
SUMMARY:Информационные системы и технологии
LOCATION:ГЗ 235
END:VEVENT
BEGIN:VEVENT
UID:hnvg@192.168.245.71:3006
SEQUENCE:0
DTSTAMP:20260425T192634Z
DTSTART:20251113T070000Z
DTEND:20251113T084000Z
SUMMARY:Введение в экономическую теорию
LOCATION:DL Дистанционно
END:VEVENT
BEGIN:VEVENT
UID:ie8u@192.168.245.71:3006
SEQUENCE:0
DTSTAMP:20260425T192634Z
DTSTART:20251113T110000Z
DTEND:20251113T124000Z
SUMMARY:Основы цифровых технологий
LOCATION:DL Дистанционно
END:VEVENT
BEGIN:VEVENT
UID:e1ex@192.168.245.71:3006
SEQUENCE:0
DTSTAMP:20260425T192634Z
DTSTART:20251114T090000Z
DTEND:20251114T104000Z
SUMMARY:Высшая математика
LOCATION:50 уч.к 1235
END:VEVENT
BEGIN:VEVENT
UID:1km4@192.168.245.71:3006
SEQUENCE:0
DTSTAMP:20260425T192634Z
DTSTART:20251114T110000Z
DTEND:20251114T124000Z
SUMMARY:Информационные системы и технологии
LOCATION:50 уч.к 1103
END:VEVENT
BEGIN:VEVENT
UID:3oze@192.168.245.71:3006
SEQUENCE:0
DTSTAMP:20260425T192634Z
DTSTART:20251114T130000Z
DTEND:20251114T144000Z
SUMMARY:Микроэкономика
LOCATION:50 уч.к 1324
END:VEVENT
BEGIN:VEVENT
UID:tnli@192.168.245.71:3006
SEQUENCE:0
DTSTAMP:20260425T192634Z
DTSTART:20251115T050000Z
DTEND:20251115T064000Z
SUMMARY:Элективная физическая культура и спорт
LOCATION:СК Спортивный зал
END:VEVENT
BEGIN:VEVENT
UID:m2l4@192.168.245.71:3006
SEQUENCE:0
DTSTAMP:20260425T192634Z
DTSTART:20251115T090000Z
DTEND:20251115T104000Z
SUMMARY:Философия
LOCATION:50 уч.к 1251
END:VEVENT
BEGIN:VEVENT
UID:de7j@192.168.245.71:3006
SEQUENCE:0
DTSTAMP:20260425T192634Z
DTSTART:20251115T110000Z
DTEND:20251115T124000Z
SUMMARY:Основы российской государственности
LOCATION:50 уч.к 1249
END:VEVENT
END:VCALENDAR