BEGIN:VCALENDAR
VERSION:2.0
PRODID:-//spbstu.ru//ical//RU
NAME:Расписание группы 3733806/50004
X-WR-CALNAME:Расписание группы 3733806/50004
TIMEZONE-ID:Europe/Moscow
X-WR-TIMEZONE:Europe/Moscow
BEGIN:VEVENT
UID:ag0a@192.168.245.71:3006
SEQUENCE:0
DTSTAMP:20260421T135207Z
DTSTART:20260513T070000Z
DTEND:20260513T084000Z
SUMMARY:Элективная  физическая культура и спорт
LOCATION:СК Спортивный зал
END:VEVENT
BEGIN:VEVENT
UID:e5h5@192.168.245.71:3006
SEQUENCE:0
DTSTAMP:20260421T135207Z
DTSTART:20260514T070000Z
DTEND:20260514T084000Z
SUMMARY:Высшая математика
LOCATION:50 уч.к 1214
END:VEVENT
BEGIN:VEVENT
UID:f42t@192.168.245.71:3006
SEQUENCE:0
DTSTAMP:20260421T135207Z
DTSTART:20260515T070000Z
DTEND:20260515T084000Z
SUMMARY:Основы государственной регламентации деятельности организации
LOCATION:50 уч.к 1326
END:VEVENT
BEGIN:VEVENT
UID:40f9@192.168.245.71:3006
SEQUENCE:0
DTSTAMP:20260421T135207Z
DTSTART:20260515T090000Z
DTEND:20260515T104000Z
SUMMARY:Высшая математика
LOCATION:50 уч.к 1327
END:VEVENT
BEGIN:VEVENT
UID:d8gv@192.168.245.71:3006
SEQUENCE:0
DTSTAMP:20260421T135207Z
DTSTART:20260516T050000Z
DTEND:20260516T064000Z
SUMMARY:Элективная  физическая культура и спорт
LOCATION:СК Спортивный зал
END:VEVENT
END:VCALENDAR