BEGIN:VCALENDAR
VERSION:2.0
PRODID:-//spbstu.ru//ical//RU
NAME:Расписание группы 3733806/50005
X-WR-CALNAME:Расписание группы 3733806/50005
TIMEZONE-ID:Europe/Moscow
X-WR-TIMEZONE:Europe/Moscow
BEGIN:VEVENT
UID:f2ya@192.168.245.71:3006
SEQUENCE:0
DTSTAMP:20260421T110925Z
DTSTART:20260331T110000Z
DTEND:20260331T124000Z
SUMMARY:История России
LOCATION:50 уч.к 1325
END:VEVENT
BEGIN:VEVENT
UID:6kjc@192.168.245.71:3006
SEQUENCE:0
DTSTAMP:20260421T110925Z
DTSTART:20260331T130000Z
DTEND:20260331T144000Z
SUMMARY:Макроэкономика
LOCATION:50 уч.к 1235
END:VEVENT
BEGIN:VEVENT
UID:4n2s@192.168.245.71:3006
SEQUENCE:0
DTSTAMP:20260421T110925Z
DTSTART:20260331T150000Z
DTEND:20260331T164000Z
SUMMARY:Высшая математика
LOCATION:50 уч.к 1323
END:VEVENT
BEGIN:VEVENT
UID:jz0w@192.168.245.71:3006
SEQUENCE:0
DTSTAMP:20260421T110925Z
DTSTART:20260401T070000Z
DTEND:20260401T084000Z
SUMMARY:Элективная  физическая культура и спорт
LOCATION:СК Спортивный зал
END:VEVENT
BEGIN:VEVENT
UID:siy8@192.168.245.71:3006
SEQUENCE:0
DTSTAMP:20260421T110925Z
DTSTART:20260401T090000Z
DTEND:20260401T104000Z
SUMMARY:Цифровые средства обработки данных
LOCATION:ГЗ 257
END:VEVENT
BEGIN:VEVENT
UID:h6mx@192.168.245.71:3006
SEQUENCE:0
DTSTAMP:20260421T110925Z
DTSTART:20260402T070000Z
DTEND:20260402T084000Z
SUMMARY:Высшая математика
LOCATION:50 уч.к 1214
END:VEVENT
BEGIN:VEVENT
UID:o13k@192.168.245.71:3006
SEQUENCE:0
DTSTAMP:20260421T110925Z
DTSTART:20260402T090000Z
DTEND:20260402T104000Z
SUMMARY:Макроэкономика
LOCATION:50 уч.к 1214
END:VEVENT
BEGIN:VEVENT
UID:k7ih@192.168.245.71:3006
SEQUENCE:0
DTSTAMP:20260421T110925Z
DTSTART:20260403T070000Z
DTEND:20260403T084000Z
SUMMARY:Экономика предприятия
LOCATION:50 уч.к 1239
END:VEVENT
BEGIN:VEVENT
UID:k361@192.168.245.71:3006
SEQUENCE:0
DTSTAMP:20260421T110925Z
DTSTART:20260403T090000Z
DTEND:20260403T104000Z
SUMMARY:Цифровые средства обработки данных
LOCATION:50 уч.к 1336а
END:VEVENT
BEGIN:VEVENT
UID:grwz@192.168.245.71:3006
SEQUENCE:0
DTSTAMP:20260421T110925Z
DTSTART:20260403T110000Z
DTEND:20260403T124000Z
SUMMARY:Высшая математика
LOCATION:50 уч.к 1327
END:VEVENT
BEGIN:VEVENT
UID:vmej@192.168.245.71:3006
SEQUENCE:0
DTSTAMP:20260421T110925Z
DTSTART:20260403T130000Z
DTEND:20260403T144000Z
SUMMARY:Высшая математика
LOCATION:50 уч.к 1327
END:VEVENT
BEGIN:VEVENT
UID:wjck@192.168.245.71:3006
SEQUENCE:0
DTSTAMP:20260421T110925Z
DTSTART:20260404T050000Z
DTEND:20260404T064000Z
SUMMARY:Элективная  физическая культура и спорт
LOCATION:СК Спортивный зал
END:VEVENT
BEGIN:VEVENT
UID:jezy@192.168.245.71:3006
SEQUENCE:0
DTSTAMP:20260421T110925Z
DTSTART:20260404T060000Z
DTEND:20260404T090000Z
SUMMARY:Элективная  физическая культура и спорт
LOCATION:СК Спортивный зал
END:VEVENT
BEGIN:VEVENT
UID:k5mt@192.168.245.71:3006
SEQUENCE:0
DTSTAMP:20260421T110925Z
DTSTART:20260404T070000Z
DTEND:20260404T084000Z
SUMMARY:Иностранный язык: Базовый курс
LOCATION:16 к. 406
END:VEVENT
END:VCALENDAR