BEGIN:VCALENDAR
VERSION:2.0
PRODID:-//spbstu.ru//ical//RU
NAME:Расписание группы 3733806/50005
X-WR-CALNAME:Расписание группы 3733806/50005
TIMEZONE-ID:Europe/Moscow
X-WR-TIMEZONE:Europe/Moscow
BEGIN:VEVENT
UID:m9eb@192.168.245.71:3006
SEQUENCE:0
DTSTAMP:20260422T002703Z
DTSTART:20260608T090000Z
DTEND:20260608T104000Z
SUMMARY:Экономика предприятия
LOCATION:50 уч.к 1110
END:VEVENT
BEGIN:VEVENT
UID:fp5q@192.168.245.71:3006
SEQUENCE:0
DTSTAMP:20260422T002703Z
DTSTART:20260610T070000Z
DTEND:20260610T104000Z
SUMMARY:Высшая математика
LOCATION:50 уч.к 1239
END:VEVENT
BEGIN:VEVENT
UID:ef0p@192.168.245.71:3006
SEQUENCE:0
DTSTAMP:20260422T002703Z
DTSTART:20260611T070000Z
DTEND:20260611T084000Z
SUMMARY:Макроэкономика
LOCATION:50 уч.к 1341
END:VEVENT
END:VCALENDAR