BEGIN:VCALENDAR
VERSION:2.0
PRODID:-//spbstu.ru//ical//RU
NAME:Расписание группы 3733807/50001
X-WR-CALNAME:Расписание группы 3733807/50001
TIMEZONE-ID:Europe/Moscow
X-WR-TIMEZONE:Europe/Moscow
BEGIN:VEVENT
UID:gvlu@192.168.245.71:3006
SEQUENCE:0
DTSTAMP:20260423T074334Z
DTSTART:20251222T090000Z
DTEND:20251222T104000Z
SUMMARY:Основы цифровых технологий
LOCATION:50 уч.к 1208
END:VEVENT
BEGIN:VEVENT
UID:2ezf@192.168.245.71:3006
SEQUENCE:0
DTSTAMP:20260423T074334Z
DTSTART:20251223T110000Z
DTEND:20251223T124000Z
SUMMARY:Философия
LOCATION:50 уч.к 1428
END:VEVENT
BEGIN:VEVENT
UID:ebut@192.168.245.71:3006
SEQUENCE:0
DTSTAMP:20260423T074334Z
DTSTART:20251225T110000Z
DTEND:20251225T124000Z
SUMMARY:Высшая математика
LOCATION:50 уч.к 1326
END:VEVENT
BEGIN:VEVENT
UID:500y@192.168.245.71:3006
SEQUENCE:0
DTSTAMP:20260423T074334Z
DTSTART:20251226T110000Z
DTEND:20251226T124000Z
SUMMARY:Введение в экономическую теорию
LOCATION:50 уч.к 1425
END:VEVENT
BEGIN:VEVENT
UID:8sw6@192.168.245.71:3006
SEQUENCE:0
DTSTAMP:20260423T074334Z
DTSTART:20251227T110000Z
DTEND:20251227T124000Z
SUMMARY:Микроэкономика
LOCATION:50 уч.к 1328
END:VEVENT
END:VCALENDAR