BEGIN:VCALENDAR
VERSION:2.0
PRODID:-//spbstu.ru//ical//RU
NAME:Расписание группы 3733807/50001
X-WR-CALNAME:Расписание группы 3733807/50001
TIMEZONE-ID:Europe/Moscow
X-WR-TIMEZONE:Europe/Moscow
BEGIN:VEVENT
UID:rw72@192.168.245.71:3006
SEQUENCE:0
DTSTAMP:20260423T214025Z
DTSTART:20260407T070000Z
DTEND:20260407T084000Z
SUMMARY:Высшая математика
LOCATION:50 уч.к 1233
END:VEVENT
BEGIN:VEVENT
UID:w4p7@192.168.245.71:3006
SEQUENCE:0
DTSTAMP:20260423T214025Z
DTSTART:20260407T090000Z
DTEND:20260407T104000Z
SUMMARY:Высшая математика
LOCATION:50 уч.к 1233
END:VEVENT
BEGIN:VEVENT
UID:wh00@192.168.245.71:3006
SEQUENCE:0
DTSTAMP:20260423T214025Z
DTSTART:20260407T110000Z
DTEND:20260407T124000Z
SUMMARY:Экономика предприятия
LOCATION:50 уч.к 1113
END:VEVENT
BEGIN:VEVENT
UID:d2rc@192.168.245.71:3006
SEQUENCE:0
DTSTAMP:20260423T214025Z
DTSTART:20260407T130000Z
DTEND:20260407T144000Z
SUMMARY:История России
LOCATION:50 уч.к 1325
END:VEVENT
BEGIN:VEVENT
UID:nioy@192.168.245.71:3006
SEQUENCE:0
DTSTAMP:20260423T214025Z
DTSTART:20260408T050000Z
DTEND:20260408T064000Z
SUMMARY:История России
LOCATION:ГЗ 235
END:VEVENT
BEGIN:VEVENT
UID:y03t@192.168.245.71:3006
SEQUENCE:0
DTSTAMP:20260423T214025Z
DTSTART:20260408T070000Z
DTEND:20260408T084000Z
SUMMARY:Элективная  физическая культура и спорт
LOCATION:СК Спортивный зал
END:VEVENT
BEGIN:VEVENT
UID:dmow@192.168.245.71:3006
SEQUENCE:0
DTSTAMP:20260423T214025Z
DTSTART:20260408T090000Z
DTEND:20260408T104000Z
SUMMARY:Экономика предприятия
LOCATION:ГЗ 257
END:VEVENT
BEGIN:VEVENT
UID:pwm2@192.168.245.71:3006
SEQUENCE:0
DTSTAMP:20260423T214025Z
DTSTART:20260409T070000Z
DTEND:20260409T084000Z
SUMMARY:Высшая математика
LOCATION:50 уч.к 1214
END:VEVENT
BEGIN:VEVENT
UID:fs8s@192.168.245.71:3006
SEQUENCE:0
DTSTAMP:20260423T214025Z
DTSTART:20260409T090000Z
DTEND:20260409T104000Z
SUMMARY:Макроэкономика
LOCATION:50 уч.к 1214
END:VEVENT
BEGIN:VEVENT
UID:xb32@192.168.245.71:3006
SEQUENCE:0
DTSTAMP:20260423T214025Z
DTSTART:20260410T070000Z
DTEND:20260410T084000Z
SUMMARY:Цифровые средства обработки данных
LOCATION:50 уч.к 1336а
END:VEVENT
BEGIN:VEVENT
UID:lu39@192.168.245.71:3006
SEQUENCE:0
DTSTAMP:20260423T214025Z
DTSTART:20260410T090000Z
DTEND:20260410T104000Z
SUMMARY:Макроэкономика
LOCATION:50 уч.к 1325
END:VEVENT
BEGIN:VEVENT
UID:i7x7@192.168.245.71:3006
SEQUENCE:0
DTSTAMP:20260423T214025Z
DTSTART:20260410T110000Z
DTEND:20260410T124000Z
SUMMARY:Учебная практика/Ознакомительная практика
LOCATION:50 уч.к 1156
END:VEVENT
BEGIN:VEVENT
UID:75gn@192.168.245.71:3006
SEQUENCE:0
DTSTAMP:20260423T214025Z
DTSTART:20260411T050000Z
DTEND:20260411T064000Z
SUMMARY:Элективная  физическая культура и спорт
LOCATION:СК Спортивный зал
END:VEVENT
BEGIN:VEVENT
UID:5cwx@192.168.245.71:3006
SEQUENCE:0
DTSTAMP:20260423T214025Z
DTSTART:20260411T070000Z
DTEND:20260411T084000Z
SUMMARY:Иностранный язык: Базовый курс
LOCATION:16 к. 403
END:VEVENT
END:VCALENDAR