BEGIN:VCALENDAR
VERSION:2.0
PRODID:-//spbstu.ru//ical//RU
NAME:Расписание группы 3733807/50001
X-WR-CALNAME:Расписание группы 3733807/50001
TIMEZONE-ID:Europe/Moscow
X-WR-TIMEZONE:Europe/Moscow
BEGIN:VEVENT
UID:hut4@192.168.245.71:3006
SEQUENCE:0
DTSTAMP:20260423T143247Z
DTSTART:20260505T070000Z
DTEND:20260505T084000Z
SUMMARY:Высшая математика
LOCATION:50 уч.к 1233
END:VEVENT
BEGIN:VEVENT
UID:9pt0@192.168.245.71:3006
SEQUENCE:0
DTSTAMP:20260423T143247Z
DTSTART:20260505T090000Z
DTEND:20260505T104000Z
SUMMARY:Высшая математика
LOCATION:50 уч.к 1233
END:VEVENT
BEGIN:VEVENT
UID:z338@192.168.245.71:3006
SEQUENCE:0
DTSTAMP:20260423T143247Z
DTSTART:20260505T130000Z
DTEND:20260505T144000Z
SUMMARY:История России
LOCATION:50 уч.к 1325
END:VEVENT
BEGIN:VEVENT
UID:u091@192.168.245.71:3006
SEQUENCE:0
DTSTAMP:20260423T143247Z
DTSTART:20260506T050000Z
DTEND:20260506T064000Z
SUMMARY:История России
LOCATION:ГЗ 235
END:VEVENT
BEGIN:VEVENT
UID:axce@192.168.245.71:3006
SEQUENCE:0
DTSTAMP:20260423T143247Z
DTSTART:20260506T070000Z
DTEND:20260506T084000Z
SUMMARY:Элективная  физическая культура и спорт
LOCATION:СК Спортивный зал
END:VEVENT
BEGIN:VEVENT
UID:1ec4@192.168.245.71:3006
SEQUENCE:0
DTSTAMP:20260423T143247Z
DTSTART:20260506T090000Z
DTEND:20260506T104000Z
SUMMARY:Экономика предприятия
LOCATION:ГЗ 257
END:VEVENT
BEGIN:VEVENT
UID:ovz0@192.168.245.71:3006
SEQUENCE:0
DTSTAMP:20260423T143247Z
DTSTART:20260507T070000Z
DTEND:20260507T084000Z
SUMMARY:Высшая математика
LOCATION:50 уч.к 1214
END:VEVENT
BEGIN:VEVENT
UID:olb6@192.168.245.71:3006
SEQUENCE:0
DTSTAMP:20260423T143247Z
DTSTART:20260508T070000Z
DTEND:20260508T084000Z
SUMMARY:Цифровые средства обработки данных
LOCATION:50 уч.к 1336а
END:VEVENT
BEGIN:VEVENT
UID:kud9@192.168.245.71:3006
SEQUENCE:0
DTSTAMP:20260423T143247Z
DTSTART:20260508T090000Z
DTEND:20260508T104000Z
SUMMARY:Макроэкономика
LOCATION:50 уч.к 1325
END:VEVENT
END:VCALENDAR