BEGIN:VCALENDAR
VERSION:2.0
PRODID:-//spbstu.ru//ical//RU
NAME:Расписание группы 3734301/50001
X-WR-CALNAME:Расписание группы 3734301/50001
TIMEZONE-ID:Europe/Moscow
X-WR-TIMEZONE:Europe/Moscow
BEGIN:VEVENT
UID:vw1k@192.168.245.71:3006
SEQUENCE:0
DTSTAMP:20260421T102846Z
DTSTART:20260504T050000Z
DTEND:20260504T064000Z
SUMMARY:Элективная  физическая культура и спорт
LOCATION:СК Спортивный зал
END:VEVENT
BEGIN:VEVENT
UID:49md@192.168.245.71:3006
SEQUENCE:0
DTSTAMP:20260421T102846Z
DTSTART:20260504T070000Z
DTEND:20260504T084000Z
SUMMARY:Макроэкономика
LOCATION:50 уч.к 1214
END:VEVENT
BEGIN:VEVENT
UID:5fas@192.168.245.71:3006
SEQUENCE:0
DTSTAMP:20260421T102846Z
DTSTART:20260504T090000Z
DTEND:20260504T104000Z
SUMMARY:Концепции современного естествознания
LOCATION:50 уч.к 1326
END:VEVENT
BEGIN:VEVENT
UID:f2i7@192.168.245.71:3006
SEQUENCE:0
DTSTAMP:20260421T102846Z
DTSTART:20260504T110000Z
DTEND:20260504T124000Z
SUMMARY:Экономика предприятий сферы услуг
LOCATION:50 уч.к 1421
END:VEVENT
BEGIN:VEVENT
UID:0lpt@192.168.245.71:3006
SEQUENCE:0
DTSTAMP:20260421T102846Z
DTSTART:20260505T090000Z
DTEND:20260505T104000Z
SUMMARY:Высшая математика
LOCATION:50 уч.к 1341
END:VEVENT
BEGIN:VEVENT
UID:9ju4@192.168.245.71:3006
SEQUENCE:0
DTSTAMP:20260421T102846Z
DTSTART:20260505T110000Z
DTEND:20260505T124000Z
SUMMARY:Высшая математика
LOCATION:50 уч.к 1331
END:VEVENT
BEGIN:VEVENT
UID:wxu9@192.168.245.71:3006
SEQUENCE:0
DTSTAMP:20260421T102846Z
DTSTART:20260505T130000Z
DTEND:20260505T144000Z
SUMMARY:Учебная практика/Ознакомительная практика
LOCATION:50 уч.к 1226
END:VEVENT
BEGIN:VEVENT
UID:qv6d@192.168.245.71:3006
SEQUENCE:0
DTSTAMP:20260421T102846Z
DTSTART:20260507T070000Z
DTEND:20260507T084000Z
SUMMARY:Элективная  физическая культура и спорт
LOCATION:СК Спортивный зал
END:VEVENT
BEGIN:VEVENT
UID:yztx@192.168.245.71:3006
SEQUENCE:0
DTSTAMP:20260421T102846Z
DTSTART:20260508T090000Z
DTEND:20260508T104000Z
SUMMARY:История России
LOCATION:50 уч.к 1214
END:VEVENT
BEGIN:VEVENT
UID:8m28@192.168.245.71:3006
SEQUENCE:0
DTSTAMP:20260421T102846Z
DTSTART:20260508T110000Z
DTEND:20260508T124000Z
SUMMARY:История России
LOCATION:50 уч.к 1323
END:VEVENT
END:VCALENDAR