BEGIN:VCALENDAR
VERSION:2.0
PRODID:-//spbstu.ru//ical//RU
NAME:Расписание группы 3734302/50381
X-WR-CALNAME:Расписание группы 3734302/50381
TIMEZONE-ID:Europe/Moscow
X-WR-TIMEZONE:Europe/Moscow
BEGIN:VEVENT
UID:l0th@192.168.245.71:3006
SEQUENCE:0
DTSTAMP:20260421T032354Z
DTSTART:20260420T050000Z
DTEND:20260420T064000Z
SUMMARY:Элективная  физическая культура и спорт
LOCATION:СК Спортивный зал
END:VEVENT
BEGIN:VEVENT
UID:mfjn@192.168.245.71:3006
SEQUENCE:0
DTSTAMP:20260421T032354Z
DTSTART:20260420T070000Z
DTEND:20260420T084000Z
SUMMARY:Макроэкономика
LOCATION:50 уч.к 1214
END:VEVENT
BEGIN:VEVENT
UID:xnjx@192.168.245.71:3006
SEQUENCE:0
DTSTAMP:20260421T032354Z
DTSTART:20260421T050000Z
DTEND:20260421T064000Z
SUMMARY:История России
LOCATION:50 уч.к 1226
END:VEVENT
BEGIN:VEVENT
UID:bewh@192.168.245.71:3006
SEQUENCE:0
DTSTAMP:20260421T032354Z
DTSTART:20260421T070000Z
DTEND:20260421T084000Z
SUMMARY:Концепции современного естествознания
LOCATION:50 уч.к 1217
END:VEVENT
BEGIN:VEVENT
UID:nuti@192.168.245.71:3006
SEQUENCE:0
DTSTAMP:20260421T032354Z
DTSTART:20260421T090000Z
DTEND:20260421T104000Z
SUMMARY:Высшая математика
LOCATION:DL Дистанционно
END:VEVENT
BEGIN:VEVENT
UID:umh6@192.168.245.71:3006
SEQUENCE:0
DTSTAMP:20260421T032354Z
DTSTART:20260421T150000Z
DTEND:20260421T164000Z
SUMMARY:Иностранный язык: Русский язык как иностранный
LOCATION:50 уч.к 1234
END:VEVENT
BEGIN:VEVENT
UID:c33h@192.168.245.71:3006
SEQUENCE:0
DTSTAMP:20260421T032354Z
DTSTART:20260422T110000Z
DTEND:20260422T124000Z
SUMMARY:Цифровые средства обработки данных
LOCATION:50 уч.к 1104
END:VEVENT
BEGIN:VEVENT
UID:n2fh@192.168.245.71:3006
SEQUENCE:0
DTSTAMP:20260421T032354Z
DTSTART:20260422T130000Z
DTEND:20260422T144000Z
SUMMARY:Макроэкономика
LOCATION:50 уч.к 1230
END:VEVENT
BEGIN:VEVENT
UID:qrrc@192.168.245.71:3006
SEQUENCE:0
DTSTAMP:20260421T032354Z
DTSTART:20260423T070000Z
DTEND:20260423T084000Z
SUMMARY:Элективная  физическая культура и спорт
LOCATION:СК Спортивный зал
END:VEVENT
BEGIN:VEVENT
UID:nq7h@192.168.245.71:3006
SEQUENCE:0
DTSTAMP:20260421T032354Z
DTSTART:20260423T090000Z
DTEND:20260423T104000Z
SUMMARY:Экономика предприятий сферы услуг
LOCATION:50 уч.к 1242
END:VEVENT
BEGIN:VEVENT
UID:04qq@192.168.245.71:3006
SEQUENCE:0
DTSTAMP:20260421T032354Z
DTSTART:20260423T110000Z
DTEND:20260423T124000Z
SUMMARY:Экономика предприятий сферы услуг
LOCATION:50 уч.к 1341
END:VEVENT
BEGIN:VEVENT
UID:tm74@192.168.245.71:3006
SEQUENCE:0
DTSTAMP:20260421T032354Z
DTSTART:20260423T130000Z
DTEND:20260423T144000Z
SUMMARY:Экономика предприятий сферы услуг
LOCATION:50 уч.к 1218
END:VEVENT
BEGIN:VEVENT
UID:seki@192.168.245.71:3006
SEQUENCE:0
DTSTAMP:20260421T032354Z
DTSTART:20260424T090000Z
DTEND:20260424T104000Z
SUMMARY:История России
LOCATION:50 уч.к 1214
END:VEVENT
BEGIN:VEVENT
UID:xjtu@192.168.245.71:3006
SEQUENCE:0
DTSTAMP:20260421T032354Z
DTSTART:20260424T110000Z
DTEND:20260424T124000Z
SUMMARY:Основы государственной регламентации деятельности организации
LOCATION:50 уч.к 1223
END:VEVENT
BEGIN:VEVENT
UID:xzz8@192.168.245.71:3006
SEQUENCE:0
DTSTAMP:20260421T032354Z
DTSTART:20260424T130000Z
DTEND:20260424T144000Z
SUMMARY:Высшая математика
LOCATION:15 к. 634
END:VEVENT
BEGIN:VEVENT
UID:s79a@192.168.245.71:3006
SEQUENCE:0
DTSTAMP:20260421T032354Z
DTSTART:20260425T110000Z
DTEND:20260425T124000Z
SUMMARY:Иностранный язык: Русский язык как иностранный
LOCATION:50 уч.к 1233
END:VEVENT
BEGIN:VEVENT
UID:su7p@192.168.245.71:3006
SEQUENCE:0
DTSTAMP:20260421T032354Z
DTSTART:20260425T110000Z
DTEND:20260425T124000Z
SUMMARY:Иностранный язык: Русский язык как иностранный
LOCATION:50 уч.к 1233
END:VEVENT
END:VCALENDAR