BEGIN:VCALENDAR
VERSION:2.0
PRODID:-//spbstu.ru//ical//RU
NAME:Расписание группы 3734302/50381
X-WR-CALNAME:Расписание группы 3734302/50381
TIMEZONE-ID:Europe/Moscow
X-WR-TIMEZONE:Europe/Moscow
BEGIN:VEVENT
UID:nuyx@192.168.245.71:3006
SEQUENCE:0
DTSTAMP:20260421T052533Z
DTSTART:20260518T070000Z
DTEND:20260518T084000Z
SUMMARY:История России
LOCATION:50 уч.к 1111
END:VEVENT
BEGIN:VEVENT
UID:9d5q@192.168.245.71:3006
SEQUENCE:0
DTSTAMP:20260421T052533Z
DTSTART:20260519T070000Z
DTEND:20260519T084000Z
SUMMARY:Концепции современного естествознания
LOCATION:50 уч.к 1217
END:VEVENT
BEGIN:VEVENT
UID:up27@192.168.245.71:3006
SEQUENCE:0
DTSTAMP:20260421T052533Z
DTSTART:20260522T090000Z
DTEND:20260522T104000Z
SUMMARY:История России
LOCATION:50 уч.к 1214
END:VEVENT
END:VCALENDAR