BEGIN:VCALENDAR
VERSION:2.0
PRODID:-//spbstu.ru//ical//RU
NAME:Расписание группы 3734303/50002
X-WR-CALNAME:Расписание группы 3734303/50002
TIMEZONE-ID:Europe/Moscow
X-WR-TIMEZONE:Europe/Moscow
BEGIN:VEVENT
UID:py0h@192.168.245.71:3006
SEQUENCE:0
DTSTAMP:20260424T084604Z
DTSTART:20251020T050000Z
DTEND:20251020T064000Z
SUMMARY:Элективная физическая культура и спорт
LOCATION:СК Спортивный зал
END:VEVENT
BEGIN:VEVENT
UID:4w0q@192.168.245.71:3006
SEQUENCE:0
DTSTAMP:20260424T084604Z
DTSTART:20251020T090000Z
DTEND:20251020T104000Z
SUMMARY:Высшая математика
LOCATION:50 уч.к 1105
END:VEVENT
BEGIN:VEVENT
UID:qe9o@192.168.245.71:3006
SEQUENCE:0
DTSTAMP:20260424T084604Z
DTSTART:20251020T110000Z
DTEND:20251020T124000Z
SUMMARY:Информационные системы и технологии
LOCATION:50 уч.к 1105
END:VEVENT
BEGIN:VEVENT
UID:cz57@192.168.245.71:3006
SEQUENCE:0
DTSTAMP:20260424T084604Z
DTSTART:20251021T050000Z
DTEND:20251021T064000Z
SUMMARY:Иностранный язык: Русский язык как иностранный
LOCATION:16 к. 403
END:VEVENT
BEGIN:VEVENT
UID:kxlt@192.168.245.71:3006
SEQUENCE:0
DTSTAMP:20260424T084604Z
DTSTART:20251021T070000Z
DTEND:20251021T084000Z
SUMMARY:Основы российской государственности
LOCATION:50 уч.к 1251
END:VEVENT
BEGIN:VEVENT
UID:ipr6@192.168.245.71:3006
SEQUENCE:0
DTSTAMP:20260424T084604Z
DTSTART:20251021T090000Z
DTEND:20251021T104000Z
SUMMARY:Философия
LOCATION:50 уч.к 1249
END:VEVENT
BEGIN:VEVENT
UID:ov9p@192.168.245.71:3006
SEQUENCE:0
DTSTAMP:20260424T084604Z
DTSTART:20251021T110000Z
DTEND:20251021T124000Z
SUMMARY:Микроэкономика
LOCATION:50 уч.к 1338
END:VEVENT
BEGIN:VEVENT
UID:s2bq@192.168.245.71:3006
SEQUENCE:0
DTSTAMP:20260424T084604Z
DTSTART:20251021T130000Z
DTEND:20251021T144000Z
SUMMARY:Введение в профессиональную деятельность
LOCATION:50 уч.к 1338
END:VEVENT
BEGIN:VEVENT
UID:awza@192.168.245.71:3006
SEQUENCE:0
DTSTAMP:20260424T084604Z
DTSTART:20251022T050000Z
DTEND:20251022T064000Z
SUMMARY:Информационные системы и технологии
LOCATION:50 уч.к 1107
END:VEVENT
BEGIN:VEVENT
UID:06fk@192.168.245.71:3006
SEQUENCE:0
DTSTAMP:20260424T084604Z
DTSTART:20251022T070000Z
DTEND:20251022T084000Z
SUMMARY:Высшая математика
LOCATION:50 уч.к 1331
END:VEVENT
BEGIN:VEVENT
UID:pa6z@192.168.245.71:3006
SEQUENCE:0
DTSTAMP:20260424T084604Z
DTSTART:20251022T090000Z
DTEND:20251022T104000Z
SUMMARY:Микроэкономика
LOCATION:50 уч.к 1324
END:VEVENT
BEGIN:VEVENT
UID:5btv@192.168.245.71:3006
SEQUENCE:0
DTSTAMP:20260424T084604Z
DTSTART:20251022T110000Z
DTEND:20251022T124000Z
SUMMARY:Основы цифровых технологий
LOCATION:50 уч.к 1210
END:VEVENT
BEGIN:VEVENT
UID:sc73@192.168.245.71:3006
SEQUENCE:0
DTSTAMP:20260424T084604Z
DTSTART:20251022T130000Z
DTEND:20251022T144000Z
SUMMARY:Творческие семестры
LOCATION:ГЗ Белый зал
END:VEVENT
BEGIN:VEVENT
UID:a9cz@192.168.245.71:3006
SEQUENCE:0
DTSTAMP:20260424T084604Z
DTSTART:20251023T050000Z
DTEND:20251023T064000Z
SUMMARY:Иностранный язык: Русский язык как иностранный
LOCATION:16 к. 403
END:VEVENT
BEGIN:VEVENT
UID:t93o@192.168.245.71:3006
SEQUENCE:0
DTSTAMP:20260424T084604Z
DTSTART:20251023T050000Z
DTEND:20251023T064000Z
SUMMARY:Иностранный язык: Базовый курс
LOCATION:16 к. 418
END:VEVENT
BEGIN:VEVENT
UID:aar5@192.168.245.71:3006
SEQUENCE:0
DTSTAMP:20260424T084604Z
DTSTART:20251023T070000Z
DTEND:20251023T084000Z
SUMMARY:Элективная физическая культура и спорт
LOCATION:СК Спортивный зал
END:VEVENT
BEGIN:VEVENT
UID:m6jn@192.168.245.71:3006
SEQUENCE:0
DTSTAMP:20260424T084604Z
DTSTART:20251023T110000Z
DTEND:20251023T124000Z
SUMMARY:Основы цифровых технологий
LOCATION:DL Дистанционно
END:VEVENT
BEGIN:VEVENT
UID:zj1y@192.168.245.71:3006
SEQUENCE:0
DTSTAMP:20260424T084604Z
DTSTART:20251023T130000Z
DTEND:20251023T144000Z
SUMMARY:Основы российской государственности
LOCATION:DL Дистанционно
END:VEVENT
BEGIN:VEVENT
UID:7wsh@192.168.245.71:3006
SEQUENCE:0
DTSTAMP:20260424T084604Z
DTSTART:20251025T130000Z
DTEND:20251025T151500Z
SUMMARY:Русский язык как иностранный
LOCATION:15 к. 318
END:VEVENT
BEGIN:VEVENT
UID:m89f@192.168.245.71:3006
SEQUENCE:0
DTSTAMP:20260424T084604Z
DTSTART:20251025T130000Z
DTEND:20251025T151500Z
SUMMARY:Русский язык как иностранный
LOCATION:15 к. 303
END:VEVENT
END:VCALENDAR