BEGIN:VCALENDAR
VERSION:2.0
PRODID:-//spbstu.ru//ical//RU
NAME:Расписание группы 3740105/50101
X-WR-CALNAME:Расписание группы 3740105/50101
TIMEZONE-ID:Europe/Moscow
X-WR-TIMEZONE:Europe/Moscow
BEGIN:VEVENT
UID:3nt8@192.168.245.71:3006
SEQUENCE:0
DTSTAMP:20260421T135154Z
DTSTART:20260518T130000Z
DTEND:20260518T144000Z
SUMMARY:Многомерный статистический анализ
LOCATION:НИК В2.18
END:VEVENT
BEGIN:VEVENT
UID:kcuz@192.168.245.71:3006
SEQUENCE:0
DTSTAMP:20260421T135154Z
DTSTART:20260522T090000Z
DTEND:20260522T104000Z
SUMMARY:Наука о данных и аналитика больших объемов информации
LOCATION:3 к. 101
END:VEVENT
END:VCALENDAR