BEGIN:VCALENDAR
VERSION:2.0
PRODID:-//spbstu.ru//ical//RU
NAME:Расписание группы 3740105/50101
X-WR-CALNAME:Расписание группы 3740105/50101
TIMEZONE-ID:Europe/Moscow
X-WR-TIMEZONE:Europe/Moscow
BEGIN:VEVENT
UID:uxhk@192.168.245.71:3006
SEQUENCE:0
DTSTAMP:20260421T132732Z
DTSTART:20260504T130000Z
DTEND:20260504T144000Z
SUMMARY:Многомерный статистический анализ
LOCATION:НИК В2.18
END:VEVENT
BEGIN:VEVENT
UID:go7q@192.168.245.71:3006
SEQUENCE:0
DTSTAMP:20260421T132732Z
DTSTART:20260507T130000Z
DTEND:20260507T144000Z
SUMMARY:Наука о данных и аналитика больших объемов информации
LOCATION:3 к. 111
END:VEVENT
BEGIN:VEVENT
UID:tlp8@192.168.245.71:3006
SEQUENCE:0
DTSTAMP:20260421T132732Z
DTSTART:20260507T150000Z
DTEND:20260507T164000Z
SUMMARY:Наука о данных и аналитика больших объемов информации
LOCATION:3 к. 111
END:VEVENT
BEGIN:VEVENT
UID:y2pl@192.168.245.71:3006
SEQUENCE:0
DTSTAMP:20260421T132732Z
DTSTART:20260508T090000Z
DTEND:20260508T104000Z
SUMMARY:Наука о данных и аналитика больших объемов информации
LOCATION:3 к. 101
END:VEVENT
END:VCALENDAR