BEGIN:VCALENDAR
VERSION:2.0
PRODID:-//spbstu.ru//ical//RU
NAME:Расписание группы 3740105/50201
X-WR-CALNAME:Расписание группы 3740105/50201
TIMEZONE-ID:Europe/Moscow
X-WR-TIMEZONE:Europe/Moscow
BEGIN:VEVENT
UID:mbsh@192.168.245.71:3006
SEQUENCE:0
DTSTAMP:20260423T220305Z
DTSTART:20251222T150000Z
DTEND:20251222T164000Z
SUMMARY:Анализ экономической деятельности организации
LOCATION:50 уч.к 1235
END:VEVENT
BEGIN:VEVENT
UID:5w4j@192.168.245.71:3006
SEQUENCE:0
DTSTAMP:20260423T220305Z
DTSTART:20251222T170000Z
DTEND:20251222T184000Z
SUMMARY:Проектная практика по информационному обеспечению деятельности пре
 дприятия
LOCATION:50 уч.к 1101
END:VEVENT
BEGIN:VEVENT
UID:u5i6@192.168.245.71:3006
SEQUENCE:0
DTSTAMP:20260423T220305Z
DTSTART:20251224T080000Z
DTEND:20251224T085500Z
SUMMARY:Научно-исследовательская работа
LOCATION:50 уч.к 1328
END:VEVENT
BEGIN:VEVENT
UID:yrkw@192.168.245.71:3006
SEQUENCE:0
DTSTAMP:20260423T220305Z
DTSTART:20251225T150000Z
DTEND:20251225T160000Z
SUMMARY:Технологии программирования (Python)
LOCATION:50 уч.к 1336а
END:VEVENT
BEGIN:VEVENT
UID:psd0@192.168.245.71:3006
SEQUENCE:0
DTSTAMP:20260423T220305Z
DTSTART:20251225T160100Z
DTEND:20251225T170000Z
SUMMARY:Технологии программирования (Python)
LOCATION:50 уч.к 1336а
END:VEVENT
END:VCALENDAR