BEGIN:VCALENDAR
VERSION:2.0
PRODID:-//spbstu.ru//ical//RU
NAME:Расписание группы 3740105/50201
X-WR-CALNAME:Расписание группы 3740105/50201
TIMEZONE-ID:Europe/Moscow
X-WR-TIMEZONE:Europe/Moscow
BEGIN:VEVENT
UID:6j5m@192.168.245.71:3006
SEQUENCE:0
DTSTAMP:20260424T051720Z
DTSTART:20251208T150000Z
DTEND:20251208T164000Z
SUMMARY:Теория вероятностей и математическая статистика
LOCATION:50 уч.к 1319
END:VEVENT
BEGIN:VEVENT
UID:qjay@192.168.245.71:3006
SEQUENCE:0
DTSTAMP:20260424T051720Z
DTSTART:20251208T170000Z
DTEND:20251208T184000Z
SUMMARY:Теория вероятностей и математическая статистика
LOCATION:50 уч.к 1319
END:VEVENT
BEGIN:VEVENT
UID:6zzs@192.168.245.71:3006
SEQUENCE:0
DTSTAMP:20260424T051720Z
DTSTART:20251210T150000Z
DTEND:20251210T164000Z
SUMMARY:Технологии программирования (Python)
LOCATION:50 уч.к 1319
END:VEVENT
BEGIN:VEVENT
UID:z8v2@192.168.245.71:3006
SEQUENCE:0
DTSTAMP:20260424T051720Z
DTSTART:20251210T170000Z
DTEND:20251210T184000Z
SUMMARY:Технологии программирования (Python)
LOCATION:50 уч.к 1319
END:VEVENT
BEGIN:VEVENT
UID:88v4@192.168.245.71:3006
SEQUENCE:0
DTSTAMP:20260424T051720Z
DTSTART:20251211T130000Z
DTEND:20251211T144000Z
SUMMARY:Дизайн-мышление
LOCATION:50 уч.к 1107
END:VEVENT
BEGIN:VEVENT
UID:p4em@192.168.245.71:3006
SEQUENCE:0
DTSTAMP:20260424T051720Z
DTSTART:20251211T150000Z
DTEND:20251211T164000Z
SUMMARY:Дизайн-мышление
LOCATION:50 уч.к 1107
END:VEVENT
BEGIN:VEVENT
UID:ijli@192.168.245.71:3006
SEQUENCE:0
DTSTAMP:20260424T051720Z
DTSTART:20251211T170000Z
DTEND:20251211T184000Z
SUMMARY:Дизайн-мышление
LOCATION:50 уч.к 1107
END:VEVENT
BEGIN:VEVENT
UID:qabf@192.168.245.71:3006
SEQUENCE:0
DTSTAMP:20260424T051720Z
DTSTART:20251212T170000Z
DTEND:20251212T184000Z
SUMMARY:Цифровые ресурсы в научном исследовании
LOCATION:DL Дистанционно
END:VEVENT
BEGIN:VEVENT
UID:p92n@192.168.245.71:3006
SEQUENCE:0
DTSTAMP:20260424T051720Z
DTSTART:20251213T090000Z
DTEND:20251213T104000Z
SUMMARY:Иностранный язык в профессиональной коммуникации\, Английский
LOCATION:16 к. 418
END:VEVENT
END:VCALENDAR