BEGIN:VCALENDAR
VERSION:2.0
PRODID:-//spbstu.ru//ical//RU
NAME:Расписание группы 3740105/50201
X-WR-CALNAME:Расписание группы 3740105/50201
TIMEZONE-ID:Europe/Moscow
X-WR-TIMEZONE:Europe/Moscow
BEGIN:VEVENT
UID:am94@192.168.245.71:3006
SEQUENCE:0
DTSTAMP:20260421T082349Z
DTSTART:20260413T130000Z
DTEND:20260413T144000Z
SUMMARY:Многомерный статистический анализ
LOCATION:НИК В2.18
END:VEVENT
BEGIN:VEVENT
UID:epg2@192.168.245.71:3006
SEQUENCE:0
DTSTAMP:20260421T082349Z
DTSTART:20260413T150000Z
DTEND:20260413T164000Z
SUMMARY:Многомерный статистический анализ
LOCATION:НИК В2.18
END:VEVENT
BEGIN:VEVENT
UID:1731@192.168.245.71:3006
SEQUENCE:0
DTSTAMP:20260421T082349Z
DTSTART:20260414T150000Z
DTEND:20260414T164000Z
SUMMARY:Эконометрика (продвинутый уровень)
LOCATION:50 уч.к 1336
END:VEVENT
BEGIN:VEVENT
UID:e4d9@192.168.245.71:3006
SEQUENCE:0
DTSTAMP:20260421T082349Z
DTSTART:20260414T170000Z
DTEND:20260414T184000Z
SUMMARY:Эконометрика (продвинутый уровень)
LOCATION:50 уч.к 1336
END:VEVENT
BEGIN:VEVENT
UID:qfbg@192.168.245.71:3006
SEQUENCE:0
DTSTAMP:20260421T082349Z
DTSTART:20260415T150000Z
DTEND:20260415T164000Z
SUMMARY:Автоматизированные системы извлечения статистической информации
LOCATION:50 уч.к 1208
END:VEVENT
BEGIN:VEVENT
UID:7jnr@192.168.245.71:3006
SEQUENCE:0
DTSTAMP:20260421T082349Z
DTSTART:20260415T170000Z
DTEND:20260415T184000Z
SUMMARY:Автоматизированные системы извлечения статистической информации
LOCATION:50 уч.к 1208
END:VEVENT
BEGIN:VEVENT
UID:eooo@192.168.245.71:3006
SEQUENCE:0
DTSTAMP:20260421T082349Z
DTSTART:20260418T070000Z
DTEND:20260418T084000Z
SUMMARY:Инструменты SQL
LOCATION:DL Дистанционно
END:VEVENT
BEGIN:VEVENT
UID:4vdl@192.168.245.71:3006
SEQUENCE:0
DTSTAMP:20260421T082349Z
DTSTART:20260418T090000Z
DTEND:20260418T104000Z
SUMMARY:Инструменты SQL
LOCATION:DL Дистанционно
END:VEVENT
END:VCALENDAR