BEGIN:VCALENDAR
VERSION:2.0
PRODID:-//spbstu.ru//ical//RU
NAME:Расписание группы 3740105/50201
X-WR-CALNAME:Расписание группы 3740105/50201
TIMEZONE-ID:Europe/Moscow
X-WR-TIMEZONE:Europe/Moscow
BEGIN:VEVENT
UID:rlo4@192.168.245.71:3006
SEQUENCE:0
DTSTAMP:20260422T074120Z
DTSTART:20260623T150000Z
DTEND:20260623T153000Z
SUMMARY:Инструменты SQL
LOCATION:DL Дистанционно
END:VEVENT
BEGIN:VEVENT
UID:a0q5@192.168.245.71:3006
SEQUENCE:0
DTSTAMP:20260422T074120Z
DTSTART:20260623T153100Z
DTEND:20260623T164000Z
SUMMARY:Инструменты SQL
LOCATION:DL Дистанционно
END:VEVENT
END:VCALENDAR