BEGIN:VCALENDAR
VERSION:2.0
PRODID:-//spbstu.ru//ical//RU
NAME:Расписание группы 3740105/50301
X-WR-CALNAME:Расписание группы 3740105/50301
TIMEZONE-ID:Europe/Moscow
X-WR-TIMEZONE:Europe/Moscow
BEGIN:VEVENT
UID:cn83@192.168.245.71:3006
SEQUENCE:0
DTSTAMP:20260421T073107Z
DTSTART:20260420T130000Z
DTEND:20260420T144000Z
SUMMARY:Многомерный статистический анализ
LOCATION:НИК В2.18
END:VEVENT
BEGIN:VEVENT
UID:gy0u@192.168.245.71:3006
SEQUENCE:0
DTSTAMP:20260421T073107Z
DTSTART:20260421T150000Z
DTEND:20260421T164000Z
SUMMARY:Эконометрика (продвинутый уровень)
LOCATION:50 уч.к 1336
END:VEVENT
BEGIN:VEVENT
UID:z6m1@192.168.245.71:3006
SEQUENCE:0
DTSTAMP:20260421T073107Z
DTSTART:20260421T170000Z
DTEND:20260421T184000Z
SUMMARY:Эконометрика (продвинутый уровень)
LOCATION:50 уч.к 1336
END:VEVENT
BEGIN:VEVENT
UID:iq4n@192.168.245.71:3006
SEQUENCE:0
DTSTAMP:20260421T073107Z
DTSTART:20260422T150000Z
DTEND:20260422T164000Z
SUMMARY:Маркетинг-аналитика в цифровой среде
LOCATION:50 уч.к 1109
END:VEVENT
BEGIN:VEVENT
UID:3k1r@192.168.245.71:3006
SEQUENCE:0
DTSTAMP:20260421T073107Z
DTSTART:20260423T150000Z
DTEND:20260423T164000Z
SUMMARY:Цифровой маркетинг
LOCATION:50 уч.к 1336а
END:VEVENT
BEGIN:VEVENT
UID:j27r@192.168.245.71:3006
SEQUENCE:0
DTSTAMP:20260421T073107Z
DTSTART:20260423T170000Z
DTEND:20260423T184000Z
SUMMARY:Цифровой маркетинг
LOCATION:50 уч.к 1336а
END:VEVENT
BEGIN:VEVENT
UID:7qxo@192.168.245.71:3006
SEQUENCE:0
DTSTAMP:20260421T073107Z
DTSTART:20260424T150000Z
DTEND:20260424T164000Z
SUMMARY:Квантификация естественной информации
LOCATION:50 уч.к 1336а
END:VEVENT
BEGIN:VEVENT
UID:yhnz@192.168.245.71:3006
SEQUENCE:0
DTSTAMP:20260421T073107Z
DTSTART:20260424T170000Z
DTEND:20260424T184000Z
SUMMARY:Квантификация естественной информации
LOCATION:50 уч.к 1336а
END:VEVENT
END:VCALENDAR