BEGIN:VCALENDAR
VERSION:2.0
PRODID:-//spbstu.ru//ical//RU
NAME:Расписание группы 3742702/50201
X-WR-CALNAME:Расписание группы 3742702/50201
TIMEZONE-ID:Europe/Moscow
X-WR-TIMEZONE:Europe/Moscow
BEGIN:VEVENT
UID:8lbw@192.168.245.71:3006
SEQUENCE:0
DTSTAMP:20260422T171626Z
DTSTART:20260217T130000Z
DTEND:20260217T144000Z
SUMMARY:Управление научным проектом
LOCATION:50 уч.к 1251
END:VEVENT
BEGIN:VEVENT
UID:mz6a@192.168.245.71:3006
SEQUENCE:0
DTSTAMP:20260422T171626Z
DTSTART:20260217T150000Z
DTEND:20260217T164000Z
SUMMARY:Бережливое производство
LOCATION:50 уч.к 1106
END:VEVENT
BEGIN:VEVENT
UID:pl0b@192.168.245.71:3006
SEQUENCE:0
DTSTAMP:20260422T171626Z
DTSTART:20260217T170000Z
DTEND:20260217T184000Z
SUMMARY:Бережливое производство
LOCATION:50 уч.к 1106
END:VEVENT
BEGIN:VEVENT
UID:ua8v@192.168.245.71:3006
SEQUENCE:0
DTSTAMP:20260422T171626Z
DTSTART:20260220T130000Z
DTEND:20260220T133000Z
SUMMARY:Проектирование документов в области управления качеством
LOCATION:50 уч.к 1250
END:VEVENT
BEGIN:VEVENT
UID:1alw@192.168.245.71:3006
SEQUENCE:0
DTSTAMP:20260422T171626Z
DTSTART:20260220T140000Z
DTEND:20260220T144000Z
SUMMARY:Иностранный язык в профессиональной коммуникации
LOCATION:50 уч.к 1250
END:VEVENT
END:VCALENDAR