BEGIN:VCALENDAR
VERSION:2.0
PRODID:-//spbstu.ru//ical//RU
NAME:Расписание группы 3742702/50201
X-WR-CALNAME:Расписание группы 3742702/50201
TIMEZONE-ID:Europe/Moscow
X-WR-TIMEZONE:Europe/Moscow
BEGIN:VEVENT
UID:r99j@192.168.245.71:3006
SEQUENCE:0
DTSTAMP:20260422T153350Z
DTSTART:20260224T144000Z
DTEND:20260224T145900Z
SUMMARY:Научный дискурс
LOCATION:50 уч.к 1323
END:VEVENT
BEGIN:VEVENT
UID:f557@192.168.245.71:3006
SEQUENCE:0
DTSTAMP:20260422T153350Z
DTSTART:20260224T144100Z
DTEND:20260224T145900Z
SUMMARY:Аналитический анализ качества
LOCATION:50 уч.к 1323
END:VEVENT
BEGIN:VEVENT
UID:9p6w@192.168.245.71:3006
SEQUENCE:0
DTSTAMP:20260422T153350Z
DTSTART:20260224T150000Z
DTEND:20260224T164000Z
SUMMARY:Квалиметрические методы оценки качества
LOCATION:50 уч.к 1106
END:VEVENT
BEGIN:VEVENT
UID:b5tm@192.168.245.71:3006
SEQUENCE:0
DTSTAMP:20260422T153350Z
DTSTART:20260224T170000Z
DTEND:20260224T184000Z
SUMMARY:Квалиметрические методы оценки качества
LOCATION:50 уч.к 1106
END:VEVENT
BEGIN:VEVENT
UID:hw37@192.168.245.71:3006
SEQUENCE:0
DTSTAMP:20260422T153350Z
DTSTART:20260225T130000Z
DTEND:20260225T144000Z
SUMMARY:Управление качеством в условиях цифровой экономики
LOCATION:50 уч.к 1106
END:VEVENT
BEGIN:VEVENT
UID:dnlu@192.168.245.71:3006
SEQUENCE:0
DTSTAMP:20260422T153350Z
DTSTART:20260225T150000Z
DTEND:20260225T164000Z
SUMMARY:Психология делового общения
LOCATION:50 уч.к 1219
END:VEVENT
BEGIN:VEVENT
UID:f59f@192.168.245.71:3006
SEQUENCE:0
DTSTAMP:20260422T153350Z
DTSTART:20260225T170000Z
DTEND:20260225T184000Z
SUMMARY:Психология делового общения
LOCATION:50 уч.к 1219
END:VEVENT
BEGIN:VEVENT
UID:u4s6@192.168.245.71:3006
SEQUENCE:0
DTSTAMP:20260422T153350Z
DTSTART:20260226T150000Z
DTEND:20260226T164000Z
SUMMARY:Проектирование системы менеджмента качества на предприятии
LOCATION:50 уч.к 1106
END:VEVENT
BEGIN:VEVENT
UID:zzni@192.168.245.71:3006
SEQUENCE:0
DTSTAMP:20260422T153350Z
DTSTART:20260226T170000Z
DTEND:20260226T184000Z
SUMMARY:Проектирование системы менеджмента качества на предприятии
LOCATION:50 уч.к 1106
END:VEVENT
BEGIN:VEVENT
UID:7q1y@192.168.245.71:3006
SEQUENCE:0
DTSTAMP:20260422T153350Z
DTSTART:20260227T050000Z
DTEND:20260227T064000Z
SUMMARY:Цифровые ресурсы в научном исследовании
LOCATION:50 уч.к 1103
END:VEVENT
END:VCALENDAR