BEGIN:VCALENDAR
VERSION:2.0
PRODID:-//spbstu.ru//ical//RU
NAME:Расписание группы 3742702/50201
X-WR-CALNAME:Расписание группы 3742702/50201
TIMEZONE-ID:Europe/Moscow
X-WR-TIMEZONE:Europe/Moscow
BEGIN:VEVENT
UID:i3cr@192.168.245.71:3006
SEQUENCE:0
DTSTAMP:20260421T141749Z
DTSTART:20260421T150000Z
DTEND:20260421T164000Z
SUMMARY:Квалиметрические методы оценки качества
LOCATION:50 уч.к 1106
END:VEVENT
BEGIN:VEVENT
UID:tcd4@192.168.245.71:3006
SEQUENCE:0
DTSTAMP:20260421T141749Z
DTSTART:20260421T170000Z
DTEND:20260421T184000Z
SUMMARY:Квалиметрические методы оценки качества
LOCATION:50 уч.к 1106
END:VEVENT
BEGIN:VEVENT
UID:cp2p@192.168.245.71:3006
SEQUENCE:0
DTSTAMP:20260421T141749Z
DTSTART:20260422T150000Z
DTEND:20260422T164000Z
SUMMARY:Психология делового общения
LOCATION:50 уч.к 1219
END:VEVENT
BEGIN:VEVENT
UID:ol56@192.168.245.71:3006
SEQUENCE:0
DTSTAMP:20260421T141749Z
DTSTART:20260422T170000Z
DTEND:20260422T184000Z
SUMMARY:Психология делового общения
LOCATION:50 уч.к 1219
END:VEVENT
BEGIN:VEVENT
UID:z3sc@192.168.245.71:3006
SEQUENCE:0
DTSTAMP:20260421T141749Z
DTSTART:20260423T150000Z
DTEND:20260423T164000Z
SUMMARY:Проектирование системы менеджмента качества на предприятии
LOCATION:50 уч.к 1106
END:VEVENT
BEGIN:VEVENT
UID:zibz@192.168.245.71:3006
SEQUENCE:0
DTSTAMP:20260421T141749Z
DTSTART:20260423T170000Z
DTEND:20260423T184000Z
SUMMARY:Проектирование системы менеджмента качества на предприятии
LOCATION:50 уч.к 1106
END:VEVENT
END:VCALENDAR