BEGIN:VCALENDAR
VERSION:2.0
PRODID:-//spbstu.ru//ical//RU
NAME:Расписание группы 3742702/50201
X-WR-CALNAME:Расписание группы 3742702/50201
TIMEZONE-ID:Europe/Moscow
X-WR-TIMEZONE:Europe/Moscow
BEGIN:VEVENT
UID:1bxw@192.168.245.71:3006
SEQUENCE:0
DTSTAMP:20260422T141135Z
DTSTART:20260615T130000Z
DTEND:20260615T140000Z
SUMMARY:Бережливое производство
LOCATION:DL Дистанционно
END:VEVENT
BEGIN:VEVENT
UID:vokz@192.168.245.71:3006
SEQUENCE:0
DTSTAMP:20260422T141135Z
DTSTART:20260616T130000Z
DTEND:20260616T150000Z
SUMMARY:Бережливое производство
LOCATION:50 уч.к 1116
END:VEVENT
END:VCALENDAR