BEGIN:VCALENDAR
VERSION:2.0
PRODID:-//spbstu.ru//ical//RU
NAME:Расписание группы 3742707/50101
X-WR-CALNAME:Расписание группы 3742707/50101
TIMEZONE-ID:Europe/Moscow
X-WR-TIMEZONE:Europe/Moscow
BEGIN:VEVENT
UID:43o2@192.168.245.71:3006
SEQUENCE:0
DTSTAMP:20260423T171349Z
DTSTART:20260209T070000Z
DTEND:20260209T084000Z
SUMMARY:Научно-исследовательская работа
LOCATION:DL Дистанционно
END:VEVENT
BEGIN:VEVENT
UID:76eg@192.168.245.71:3006
SEQUENCE:0
DTSTAMP:20260423T171349Z
DTSTART:20260210T150000Z
DTEND:20260210T164000Z
SUMMARY:Методы принятия решений
LOCATION:50 уч.к 1110
END:VEVENT
BEGIN:VEVENT
UID:56x1@192.168.245.71:3006
SEQUENCE:0
DTSTAMP:20260423T171349Z
DTSTART:20260210T170000Z
DTEND:20260210T184000Z
SUMMARY:Методы принятия решений
LOCATION:50 уч.к 1110
END:VEVENT
BEGIN:VEVENT
UID:hy95@192.168.245.71:3006
SEQUENCE:0
DTSTAMP:20260423T171349Z
DTSTART:20260211T130000Z
DTEND:20260211T144000Z
SUMMARY:Технологические измерения и приборы
LOCATION:50 уч.к 1234
END:VEVENT
BEGIN:VEVENT
UID:q3ga@192.168.245.71:3006
SEQUENCE:0
DTSTAMP:20260423T171349Z
DTSTART:20260211T150000Z
DTEND:20260211T164000Z
SUMMARY:Технологические измерения и приборы
LOCATION:50 уч.к 1234
END:VEVENT
BEGIN:VEVENT
UID:y0ol@192.168.245.71:3006
SEQUENCE:0
DTSTAMP:20260423T171349Z
DTSTART:20260212T150000Z
DTEND:20260212T164000Z
SUMMARY:Экономика инноваций
LOCATION:50 уч.к 1115
END:VEVENT
BEGIN:VEVENT
UID:hfvc@192.168.245.71:3006
SEQUENCE:0
DTSTAMP:20260423T171349Z
DTSTART:20260212T170000Z
DTEND:20260212T184000Z
SUMMARY:Экономика инноваций
LOCATION:50 уч.к 1115
END:VEVENT
BEGIN:VEVENT
UID:x5d4@192.168.245.71:3006
SEQUENCE:0
DTSTAMP:20260423T171349Z
DTSTART:20260213T150000Z
DTEND:20260213T164000Z
SUMMARY:НИР по инновациям в энергетике
LOCATION:50 уч.к 1113
END:VEVENT
BEGIN:VEVENT
UID:rdk3@192.168.245.71:3006
SEQUENCE:0
DTSTAMP:20260423T171349Z
DTSTART:20260213T170000Z
DTEND:20260213T184000Z
SUMMARY:НИР по инновациям в энергетике
LOCATION:50 уч.к 1113
END:VEVENT
END:VCALENDAR