BEGIN:VCALENDAR
VERSION:2.0
PRODID:-//spbstu.ru//ical//RU
NAME:Расписание группы 3742707/50101
X-WR-CALNAME:Расписание группы 3742707/50101
TIMEZONE-ID:Europe/Moscow
X-WR-TIMEZONE:Europe/Moscow
BEGIN:VEVENT
UID:u2qw@192.168.245.71:3006
SEQUENCE:0
DTSTAMP:20260423T073631Z
DTSTART:20260303T150000Z
DTEND:20260303T164000Z
SUMMARY:Методы принятия решений
LOCATION:50 уч.к 1326
END:VEVENT
BEGIN:VEVENT
UID:6jpl@192.168.245.71:3006
SEQUENCE:0
DTSTAMP:20260423T073631Z
DTSTART:20260303T170000Z
DTEND:20260303T184000Z
SUMMARY:Методы принятия решений
LOCATION:50 уч.к 1326
END:VEVENT
BEGIN:VEVENT
UID:j8mv@192.168.245.71:3006
SEQUENCE:0
DTSTAMP:20260423T073631Z
DTSTART:20260304T130000Z
DTEND:20260304T144000Z
SUMMARY:Технологические измерения и приборы
LOCATION:50 уч.к 1425
END:VEVENT
BEGIN:VEVENT
UID:utkk@192.168.245.71:3006
SEQUENCE:0
DTSTAMP:20260423T073631Z
DTSTART:20260305T150000Z
DTEND:20260305T164000Z
SUMMARY:Экономика инноваций
LOCATION:50 уч.к 1115
END:VEVENT
BEGIN:VEVENT
UID:ebgn@192.168.245.71:3006
SEQUENCE:0
DTSTAMP:20260423T073631Z
DTSTART:20260305T170000Z
DTEND:20260305T184000Z
SUMMARY:Экономика инноваций
LOCATION:50 уч.к 1115
END:VEVENT
BEGIN:VEVENT
UID:s61a@192.168.245.71:3006
SEQUENCE:0
DTSTAMP:20260423T073631Z
DTSTART:20260306T150000Z
DTEND:20260306T164000Z
SUMMARY:Проектная практика по разработке инновационного продукта
LOCATION:50 уч.к 1110
END:VEVENT
BEGIN:VEVENT
UID:d0lz@192.168.245.71:3006
SEQUENCE:0
DTSTAMP:20260423T073631Z
DTSTART:20260306T171500Z
DTEND:20260306T184500Z
SUMMARY:Управление инновационным проектом
LOCATION:50 уч.к 1110
END:VEVENT
END:VCALENDAR