BEGIN:VCALENDAR
VERSION:2.0
PRODID:-//spbstu.ru//ical//RU
NAME:Расписание группы 3742707/50201
X-WR-CALNAME:Расписание группы 3742707/50201
TIMEZONE-ID:Europe/Moscow
X-WR-TIMEZONE:Europe/Moscow
BEGIN:VEVENT
UID:ko09@192.168.245.71:3006
SEQUENCE:0
DTSTAMP:20260421T132738Z
DTSTART:20260406T130000Z
DTEND:20260406T144000Z
SUMMARY:Научно-исследовательская работа по управлению рисками
LOCATION:50 уч.к 1219
END:VEVENT
BEGIN:VEVENT
UID:2hhq@192.168.245.71:3006
SEQUENCE:0
DTSTAMP:20260421T132738Z
DTSTART:20260406T150000Z
DTEND:20260406T164000Z
SUMMARY:Методы принятия решений
LOCATION:50 уч.к 1208
END:VEVENT
BEGIN:VEVENT
UID:u629@192.168.245.71:3006
SEQUENCE:0
DTSTAMP:20260421T132738Z
DTSTART:20260406T170000Z
DTEND:20260406T184000Z
SUMMARY:Методы принятия решений
LOCATION:50 уч.к 1208
END:VEVENT
BEGIN:VEVENT
UID:qvc0@192.168.245.71:3006
SEQUENCE:0
DTSTAMP:20260421T132738Z
DTSTART:20260407T150000Z
DTEND:20260407T164000Z
SUMMARY:Проектная практика по разработке инновационного продукта
LOCATION:50 уч.к 1210
END:VEVENT
BEGIN:VEVENT
UID:6iv4@192.168.245.71:3006
SEQUENCE:0
DTSTAMP:20260421T132738Z
DTSTART:20260407T170000Z
DTEND:20260407T184000Z
SUMMARY:Управление инновационным проектом
LOCATION:50 уч.к 1210
END:VEVENT
BEGIN:VEVENT
UID:iq6k@192.168.245.71:3006
SEQUENCE:0
DTSTAMP:20260421T132738Z
DTSTART:20260408T130000Z
DTEND:20260408T144000Z
SUMMARY:Технологические измерения и приборы
LOCATION:50 уч.к 1234
END:VEVENT
BEGIN:VEVENT
UID:fn3b@192.168.245.71:3006
SEQUENCE:0
DTSTAMP:20260421T132738Z
DTSTART:20260408T150000Z
DTEND:20260408T164000Z
SUMMARY:Технологические измерения и приборы
LOCATION:50 уч.к 1234
END:VEVENT
BEGIN:VEVENT
UID:dijn@192.168.245.71:3006
SEQUENCE:0
DTSTAMP:20260421T132738Z
DTSTART:20260409T150000Z
DTEND:20260409T164000Z
SUMMARY:Экономика инноваций
LOCATION:50 уч.к 1115
END:VEVENT
BEGIN:VEVENT
UID:0vlx@192.168.245.71:3006
SEQUENCE:0
DTSTAMP:20260421T132738Z
DTSTART:20260409T170000Z
DTEND:20260409T184000Z
SUMMARY:Экономика инноваций
LOCATION:50 уч.к 1115
END:VEVENT
END:VCALENDAR