BEGIN:VCALENDAR
VERSION:2.0
PRODID:-//spbstu.ru//ical//RU
NAME:Расписание группы 3743802/55001
X-WR-CALNAME:Расписание группы 3743802/55001
TIMEZONE-ID:Europe/Moscow
X-WR-TIMEZONE:Europe/Moscow
BEGIN:VEVENT
UID:p7qa@192.168.245.71:3006
SEQUENCE:0
DTSTAMP:20260424T131427Z
DTSTART:20251020T150000Z
DTEND:20251020T164000Z
SUMMARY:Методы исследований в менеджменте
LOCATION:НИК В2.02
END:VEVENT
BEGIN:VEVENT
UID:u7yc@192.168.245.71:3006
SEQUENCE:0
DTSTAMP:20260424T131427Z
DTSTART:20251020T170000Z
DTEND:20251020T184000Z
SUMMARY:Методы исследований в менеджменте
LOCATION:НИК В2.02
END:VEVENT
BEGIN:VEVENT
UID:otmz@192.168.245.71:3006
SEQUENCE:0
DTSTAMP:20260424T131427Z
DTSTART:20251022T150000Z
DTEND:20251022T164000Z
SUMMARY:Методология гибкого управления программами в цифровом бизнесе
LOCATION:50 уч.к 1223
END:VEVENT
BEGIN:VEVENT
UID:06n8@192.168.245.71:3006
SEQUENCE:0
DTSTAMP:20260424T131427Z
DTSTART:20251022T170000Z
DTEND:20251022T184000Z
SUMMARY:Методология гибкого управления программами в цифровом бизнесе
LOCATION:50 уч.к 1223
END:VEVENT
BEGIN:VEVENT
UID:vkp0@192.168.245.71:3006
SEQUENCE:0
DTSTAMP:20260424T131427Z
DTSTART:20251023T130000Z
DTEND:20251023T144000Z
SUMMARY:Современный стратегический анализ
LOCATION:50 уч.к 1341
END:VEVENT
BEGIN:VEVENT
UID:so89@192.168.245.71:3006
SEQUENCE:0
DTSTAMP:20260424T131427Z
DTSTART:20251023T150000Z
DTEND:20251023T164000Z
SUMMARY:Современный стратегический анализ
LOCATION:50 уч.к 1341
END:VEVENT
BEGIN:VEVENT
UID:0h2w@192.168.245.71:3006
SEQUENCE:0
DTSTAMP:20260424T131427Z
DTSTART:20251023T170000Z
DTEND:20251023T184000Z
SUMMARY:НИР (рассредоточенная)\, часть 1
LOCATION:50 уч.к 1234
END:VEVENT
BEGIN:VEVENT
UID:uhst@192.168.245.71:3006
SEQUENCE:0
DTSTAMP:20260424T131427Z
DTSTART:20251024T150000Z
DTEND:20251024T164000Z
SUMMARY:Цифровые ресурсы в научном исследовании
LOCATION:DL Дистанционно
END:VEVENT
BEGIN:VEVENT
UID:cogd@192.168.245.71:3006
SEQUENCE:0
DTSTAMP:20260424T131427Z
DTSTART:20251024T170000Z
DTEND:20251024T184000Z
SUMMARY:Цифровые ресурсы в научном исследовании
LOCATION:DL Дистанционно
END:VEVENT
END:VCALENDAR