BEGIN:VCALENDAR
VERSION:2.0
PRODID:-//spbstu.ru//ical//RU
NAME:Расписание группы 3743802/55001
X-WR-CALNAME:Расписание группы 3743802/55001
TIMEZONE-ID:Europe/Moscow
X-WR-TIMEZONE:Europe/Moscow
BEGIN:VEVENT
UID:uyf0@192.168.245.71:3006
SEQUENCE:0
DTSTAMP:20260424T074746Z
DTSTART:20251028T150000Z
DTEND:20251028T164000Z
SUMMARY:Управленческая экономика
LOCATION:50 уч.к 1239
END:VEVENT
BEGIN:VEVENT
UID:n8di@192.168.245.71:3006
SEQUENCE:0
DTSTAMP:20260424T074746Z
DTSTART:20251028T170000Z
DTEND:20251028T184000Z
SUMMARY:Управленческая экономика
LOCATION:50 уч.к 1239
END:VEVENT
BEGIN:VEVENT
UID:jbvl@192.168.245.71:3006
SEQUENCE:0
DTSTAMP:20260424T074746Z
DTSTART:20251029T150000Z
DTEND:20251029T164000Z
SUMMARY:Методология гибкого управления программами в цифровом бизнесе
LOCATION:50 уч.к 1218
END:VEVENT
BEGIN:VEVENT
UID:pndz@192.168.245.71:3006
SEQUENCE:0
DTSTAMP:20260424T074746Z
DTSTART:20251029T170000Z
DTEND:20251029T184000Z
SUMMARY:Методология гибкого управления программами в цифровом бизнесе
LOCATION:50 уч.к 1218
END:VEVENT
BEGIN:VEVENT
UID:9sbr@192.168.245.71:3006
SEQUENCE:0
DTSTAMP:20260424T074746Z
DTSTART:20251030T130000Z
DTEND:20251030T144000Z
SUMMARY:Управленческая экономика
LOCATION:50 уч.к 1341
END:VEVENT
BEGIN:VEVENT
UID:q2ut@192.168.245.71:3006
SEQUENCE:0
DTSTAMP:20260424T074746Z
DTSTART:20251031T150000Z
DTEND:20251031T164000Z
SUMMARY:Иностранный язык в профессиональной коммуникации\, Английский
LOCATION:16 к. 418
END:VEVENT
BEGIN:VEVENT
UID:8kpg@192.168.245.71:3006
SEQUENCE:0
DTSTAMP:20260424T074746Z
DTSTART:20251031T170000Z
DTEND:20251031T184000Z
SUMMARY:Иностранный язык в профессиональной коммуникации\, Английский
LOCATION:16 к. 418
END:VEVENT
END:VCALENDAR