BEGIN:VCALENDAR
VERSION:2.0
PRODID:-//spbstu.ru//ical//RU
NAME:Расписание группы 3743802/55001
X-WR-CALNAME:Расписание группы 3743802/55001
TIMEZONE-ID:Europe/Moscow
X-WR-TIMEZONE:Europe/Moscow
BEGIN:VEVENT
UID:wjtq@192.168.245.71:3006
SEQUENCE:0
DTSTAMP:20260423T190318Z
DTSTART:20251202T150000Z
DTEND:20251202T164000Z
SUMMARY:НИР (рассредоточенная)\, часть 1
LOCATION:50 уч.к 1219
END:VEVENT
BEGIN:VEVENT
UID:7us8@192.168.245.71:3006
SEQUENCE:0
DTSTAMP:20260423T190318Z
DTSTART:20251202T170000Z
DTEND:20251202T184000Z
SUMMARY:НИР (рассредоточенная)\, часть 1
LOCATION:50 уч.к 1219
END:VEVENT
BEGIN:VEVENT
UID:5k2n@192.168.245.71:3006
SEQUENCE:0
DTSTAMP:20260423T190318Z
DTSTART:20251204T130000Z
DTEND:20251204T144000Z
SUMMARY:Современный стратегический анализ
LOCATION:50 уч.к 1341
END:VEVENT
BEGIN:VEVENT
UID:x6lu@192.168.245.71:3006
SEQUENCE:0
DTSTAMP:20260423T190318Z
DTSTART:20251204T150000Z
DTEND:20251204T164000Z
SUMMARY:Современный стратегический анализ
LOCATION:50 уч.к 1341
END:VEVENT
BEGIN:VEVENT
UID:8fog@192.168.245.71:3006
SEQUENCE:0
DTSTAMP:20260423T190318Z
DTSTART:20251204T170000Z
DTEND:20251204T184000Z
SUMMARY:Современный стратегический анализ
LOCATION:50 уч.к 1341
END:VEVENT
BEGIN:VEVENT
UID:vjf4@192.168.245.71:3006
SEQUENCE:0
DTSTAMP:20260423T190318Z
DTSTART:20251205T150000Z
DTEND:20251205T164000Z
SUMMARY:Цифровые ресурсы в научном исследовании
LOCATION:DL Дистанционно
END:VEVENT
END:VCALENDAR