BEGIN:VCALENDAR
VERSION:2.0
PRODID:-//spbstu.ru//ical//RU
NAME:Расписание группы 3743802/55001
X-WR-CALNAME:Расписание группы 3743802/55001
TIMEZONE-ID:Europe/Moscow
X-WR-TIMEZONE:Europe/Moscow
BEGIN:VEVENT
UID:htw2@192.168.245.71:3006
SEQUENCE:0
DTSTAMP:20260421T221818Z
DTSTART:20260525T170000Z
DTEND:20260525T184000Z
SUMMARY:Управление инновационным проектом
LOCATION:50 уч.к 1210
END:VEVENT
BEGIN:VEVENT
UID:j8uy@192.168.245.71:3006
SEQUENCE:0
DTSTAMP:20260421T221818Z
DTSTART:20260526T150000Z
DTEND:20260526T164000Z
SUMMARY:Деловые коммуникации в цифровом бизнесе
LOCATION:50 уч.к 1115
END:VEVENT
BEGIN:VEVENT
UID:0dq8@192.168.245.71:3006
SEQUENCE:0
DTSTAMP:20260421T221818Z
DTSTART:20260527T150000Z
DTEND:20260527T164000Z
SUMMARY:НИР (рассредоточенная)\, часть 2
LOCATION:50 уч.к 1232
END:VEVENT
BEGIN:VEVENT
UID:ni1v@192.168.245.71:3006
SEQUENCE:0
DTSTAMP:20260421T221818Z
DTSTART:20260528T150000Z
DTEND:20260528T164000Z
SUMMARY:Ознакомительная практика
LOCATION:50 уч.к 1231
END:VEVENT
END:VCALENDAR