BEGIN:VCALENDAR
VERSION:2.0
PRODID:-//spbstu.ru//ical//RU
NAME:Расписание группы 3743802/55001
X-WR-CALNAME:Расписание группы 3743802/55001
TIMEZONE-ID:Europe/Moscow
X-WR-TIMEZONE:Europe/Moscow
BEGIN:VEVENT
UID:3v2i@192.168.245.71:3006
SEQUENCE:0
DTSTAMP:20260422T050844Z
DTSTART:20260615T150000Z
DTEND:20260615T153000Z
SUMMARY:Инвестиционные инструменты цифрового бизнеса
LOCATION:50 уч.к 1211
END:VEVENT
BEGIN:VEVENT
UID:w9hb@192.168.245.71:3006
SEQUENCE:0
DTSTAMP:20260422T050844Z
DTSTART:20260615T153100Z
DTEND:20260615T164000Z
SUMMARY:Инвестиционные инструменты цифрового бизнеса
LOCATION:50 уч.к 1211
END:VEVENT
BEGIN:VEVENT
UID:6vug@192.168.245.71:3006
SEQUENCE:0
DTSTAMP:20260422T050844Z
DTSTART:20260618T150000Z
DTEND:20260618T153000Z
SUMMARY:Моделирование бизнес-процессов
LOCATION:50 уч.к 1210
END:VEVENT
BEGIN:VEVENT
UID:qz0c@192.168.245.71:3006
SEQUENCE:0
DTSTAMP:20260422T050844Z
DTSTART:20260618T153100Z
DTEND:20260618T164000Z
SUMMARY:Моделирование бизнес-процессов
LOCATION:50 уч.к 1210
END:VEVENT
END:VCALENDAR