BEGIN:VCALENDAR
VERSION:2.0
PRODID:-//spbstu.ru//ical//RU
NAME:Расписание группы 3743806/50501
X-WR-CALNAME:Расписание группы 3743806/50501
TIMEZONE-ID:Europe/Moscow
X-WR-TIMEZONE:Europe/Moscow
BEGIN:VEVENT
UID:4vib@192.168.245.71:3006
SEQUENCE:0
DTSTAMP:20260423T173639Z
DTSTART:20251201T130000Z
DTEND:20251201T144000Z
SUMMARY:Иностранный язык в профессиональной коммуникации\, Английский
LOCATION:16 к. 411
END:VEVENT
BEGIN:VEVENT
UID:rdbi@192.168.245.71:3006
SEQUENCE:0
DTSTAMP:20260423T173639Z
DTSTART:20251202T150000Z
DTEND:20251202T164000Z
SUMMARY:Цифровая трансформация торговой деятельности
LOCATION:50 уч.к 1338
END:VEVENT
BEGIN:VEVENT
UID:fpbt@192.168.245.71:3006
SEQUENCE:0
DTSTAMP:20260423T173639Z
DTSTART:20251202T170000Z
DTEND:20251202T184000Z
SUMMARY:Цифровая трансформация торговой деятельности
LOCATION:50 уч.к 1338
END:VEVENT
BEGIN:VEVENT
UID:y6hs@192.168.245.71:3006
SEQUENCE:0
DTSTAMP:20260423T173639Z
DTSTART:20251204T170000Z
DTEND:20251204T184000Z
SUMMARY:Цифровые ресурсы в научном исследовании
LOCATION:DL Дистанционно
END:VEVENT
BEGIN:VEVENT
UID:dm5a@192.168.245.71:3006
SEQUENCE:0
DTSTAMP:20260423T173639Z
DTSTART:20251205T170000Z
DTEND:20251205T184000Z
SUMMARY:Анализ и оценка рынка товаров и услуг
LOCATION:50 уч.к 1249
END:VEVENT
END:VCALENDAR