BEGIN:VCALENDAR
VERSION:2.0
PRODID:-//spbstu.ru//ical//RU
NAME:Расписание группы 3744301/50101
X-WR-CALNAME:Расписание группы 3744301/50101
TIMEZONE-ID:Europe/Moscow
X-WR-TIMEZONE:Europe/Moscow
BEGIN:VEVENT
UID:9gdx@192.168.245.71:3006
SEQUENCE:0
DTSTAMP:20260424T084739Z
DTSTART:20251222T130000Z
DTEND:20251222T144000Z
SUMMARY:Процессное управление в сервисе
LOCATION:50 уч.к 1422
END:VEVENT
BEGIN:VEVENT
UID:9fqe@192.168.245.71:3006
SEQUENCE:0
DTSTAMP:20260424T084739Z
DTSTART:20251224T130000Z
DTEND:20251224T144000Z
SUMMARY:Рынок недвижимости и его инфраструктура
LOCATION:50 уч.к 1326
END:VEVENT
BEGIN:VEVENT
UID:zkpl@192.168.245.71:3006
SEQUENCE:0
DTSTAMP:20260424T084739Z
DTSTART:20251225T150000Z
DTEND:20251225T164000Z
SUMMARY:Научный дискурс
LOCATION:50 уч.к 1422
END:VEVENT
END:VCALENDAR