BEGIN:VCALENDAR
VERSION:2.0
PRODID:-//spbstu.ru//ical//RU
NAME:Расписание группы 3753801/50003
X-WR-CALNAME:Расписание группы 3753801/50003
TIMEZONE-ID:Europe/Moscow
X-WR-TIMEZONE:Europe/Moscow
BEGIN:VEVENT
UID:uxl6@192.168.245.71:3006
SEQUENCE:0
DTSTAMP:20260426T022713Z
DTSTART:20251027T070000Z
DTEND:20251027T084000Z
SUMMARY:Элективная физическая культура и спорт
LOCATION:СК Спортивный зал
END:VEVENT
BEGIN:VEVENT
UID:0pek@192.168.245.71:3006
SEQUENCE:0
DTSTAMP:20260426T022713Z
DTSTART:20251027T110000Z
DTEND:20251027T124000Z
SUMMARY:Основы цифровых технологий
LOCATION:DL Дистанционно
END:VEVENT
BEGIN:VEVENT
UID:8z8a@192.168.245.71:3006
SEQUENCE:0
DTSTAMP:20260426T022713Z
DTSTART:20251029T070000Z
DTEND:20251029T084000Z
SUMMARY:Основы российской государственности
LOCATION:DL Дистанционно
END:VEVENT
BEGIN:VEVENT
UID:dq7y@192.168.245.71:3006
SEQUENCE:0
DTSTAMP:20260426T022713Z
DTSTART:20251029T090000Z
DTEND:20251029T104000Z
SUMMARY:Информационные системы и технологии
LOCATION:50 уч.к 1101
END:VEVENT
BEGIN:VEVENT
UID:5mqv@192.168.245.71:3006
SEQUENCE:0
DTSTAMP:20260426T022713Z
DTSTART:20251029T110000Z
DTEND:20251029T124000Z
SUMMARY:Введение в экономическую теорию
LOCATION:50 уч.к 1251
END:VEVENT
BEGIN:VEVENT
UID:lwkq@192.168.245.71:3006
SEQUENCE:0
DTSTAMP:20260426T022713Z
DTSTART:20251030T050000Z
DTEND:20251030T064000Z
SUMMARY:Элективная физическая культура и спорт
LOCATION:СК Спортивный зал
END:VEVENT
BEGIN:VEVENT
UID:f8xb@192.168.245.71:3006
SEQUENCE:0
DTSTAMP:20260426T022713Z
DTSTART:20251030T070000Z
DTEND:20251030T084000Z
SUMMARY:Иностранный язык: Базовый курс
LOCATION:16 к. 401
END:VEVENT
BEGIN:VEVENT
UID:rfr9@192.168.245.71:3006
SEQUENCE:0
DTSTAMP:20260426T022713Z
DTSTART:20251030T090000Z
DTEND:20251030T104000Z
SUMMARY:Основы цифровых технологий
LOCATION:50 уч.к 1210
END:VEVENT
BEGIN:VEVENT
UID:t872@192.168.245.71:3006
SEQUENCE:0
DTSTAMP:20260426T022713Z
DTSTART:20251030T130000Z
DTEND:20251030T144000Z
SUMMARY:Основы российской государственности
LOCATION:DL Дистанционно
END:VEVENT
BEGIN:VEVENT
UID:lctr@192.168.245.71:3006
SEQUENCE:0
DTSTAMP:20260426T022713Z
DTSTART:20251031T070000Z
DTEND:20251031T084000Z
SUMMARY:Высшая математика
LOCATION:50 уч.к 1214
END:VEVENT
BEGIN:VEVENT
UID:27ff@192.168.245.71:3006
SEQUENCE:0
DTSTAMP:20260426T022713Z
DTSTART:20251031T090000Z
DTEND:20251031T104000Z
SUMMARY:Высшая математика
LOCATION:50 уч.к 1214
END:VEVENT
BEGIN:VEVENT
UID:x6x1@192.168.245.71:3006
SEQUENCE:0
DTSTAMP:20260426T022713Z
DTSTART:20251031T110000Z
DTEND:20251031T124000Z
SUMMARY:Микроэкономика
LOCATION:50 уч.к 1341
END:VEVENT
BEGIN:VEVENT
UID:o3qn@192.168.245.71:3006
SEQUENCE:0
DTSTAMP:20260426T022713Z
DTSTART:20251031T130000Z
DTEND:20251031T144000Z
SUMMARY:Введение в профессиональную деятельность
LOCATION:50 уч.к 1341
END:VEVENT
BEGIN:VEVENT
UID:rohz@192.168.245.71:3006
SEQUENCE:0
DTSTAMP:20260426T022713Z
DTSTART:20251101T110000Z
DTEND:20251101T124000Z
SUMMARY:Высшая математика
LOCATION:50 уч.к 1239
END:VEVENT
BEGIN:VEVENT
UID:4cbi@192.168.245.71:3006
SEQUENCE:0
DTSTAMP:20260426T022713Z
DTSTART:20251101T130000Z
DTEND:20251101T144000Z
SUMMARY:Микроэкономика
LOCATION:50 уч.к 1217
END:VEVENT
END:VCALENDAR