BEGIN:VCALENDAR
VERSION:2.0
PRODID:-//spbstu.ru//ical//RU
NAME:Расписание группы 3753801/50003
X-WR-CALNAME:Расписание группы 3753801/50003
TIMEZONE-ID:Europe/Moscow
X-WR-TIMEZONE:Europe/Moscow
BEGIN:VEVENT
UID:ise5@192.168.245.71:3006
SEQUENCE:0
DTSTAMP:20260424T220632Z
DTSTART:20251124T070000Z
DTEND:20251124T084000Z
SUMMARY:Элективная физическая культура и спорт
LOCATION:СК Спортивный зал
END:VEVENT
BEGIN:VEVENT
UID:qftk@192.168.245.71:3006
SEQUENCE:0
DTSTAMP:20260424T220632Z
DTSTART:20251126T070000Z
DTEND:20251126T084000Z
SUMMARY:Основы российской государственности
LOCATION:50 уч.к 1432
END:VEVENT
BEGIN:VEVENT
UID:7sea@192.168.245.71:3006
SEQUENCE:0
DTSTAMP:20260424T220632Z
DTSTART:20251126T090000Z
DTEND:20251126T104000Z
SUMMARY:Информационные системы и технологии
LOCATION:50 уч.к 1101
END:VEVENT
BEGIN:VEVENT
UID:nc1g@192.168.245.71:3006
SEQUENCE:0
DTSTAMP:20260424T220632Z
DTSTART:20251126T110000Z
DTEND:20251126T124000Z
SUMMARY:Введение в экономическую теорию
LOCATION:50 уч.к 1251
END:VEVENT
BEGIN:VEVENT
UID:7vi5@192.168.245.71:3006
SEQUENCE:0
DTSTAMP:20260424T220632Z
DTSTART:20251127T050000Z
DTEND:20251127T064000Z
SUMMARY:Элективная физическая культура и спорт
LOCATION:СК Спортивный зал
END:VEVENT
BEGIN:VEVENT
UID:edql@192.168.245.71:3006
SEQUENCE:0
DTSTAMP:20260424T220632Z
DTSTART:20251127T070000Z
DTEND:20251127T084000Z
SUMMARY:Иностранный язык: Базовый курс
LOCATION:16 к. 401
END:VEVENT
BEGIN:VEVENT
UID:o3ma@192.168.245.71:3006
SEQUENCE:0
DTSTAMP:20260424T220632Z
DTSTART:20251127T090000Z
DTEND:20251127T104000Z
SUMMARY:Основы цифровых технологий
LOCATION:50 уч.к 1210
END:VEVENT
BEGIN:VEVENT
UID:y7jj@192.168.245.71:3006
SEQUENCE:0
DTSTAMP:20260424T220632Z
DTSTART:20251127T130000Z
DTEND:20251127T144000Z
SUMMARY:Основы российской государственности
LOCATION:DL Дистанционно
END:VEVENT
BEGIN:VEVENT
UID:7ya7@192.168.245.71:3006
SEQUENCE:0
DTSTAMP:20260424T220632Z
DTSTART:20251128T070000Z
DTEND:20251128T084000Z
SUMMARY:Высшая математика
LOCATION:50 уч.к 1214
END:VEVENT
BEGIN:VEVENT
UID:iop2@192.168.245.71:3006
SEQUENCE:0
DTSTAMP:20260424T220632Z
DTSTART:20251128T090000Z
DTEND:20251128T104000Z
SUMMARY:Высшая математика
LOCATION:50 уч.к 1214
END:VEVENT
BEGIN:VEVENT
UID:j7qr@192.168.245.71:3006
SEQUENCE:0
DTSTAMP:20260424T220632Z
DTSTART:20251128T110000Z
DTEND:20251128T124000Z
SUMMARY:Микроэкономика
LOCATION:50 уч.к 1341
END:VEVENT
BEGIN:VEVENT
UID:eiej@192.168.245.71:3006
SEQUENCE:0
DTSTAMP:20260424T220632Z
DTSTART:20251128T130000Z
DTEND:20251128T144000Z
SUMMARY:Введение в профессиональную деятельность
LOCATION:50 уч.к 1341
END:VEVENT
BEGIN:VEVENT
UID:k5dy@192.168.245.71:3006
SEQUENCE:0
DTSTAMP:20260424T220632Z
DTSTART:20251129T110000Z
DTEND:20251129T124000Z
SUMMARY:Высшая математика
LOCATION:50 уч.к 1239
END:VEVENT
BEGIN:VEVENT
UID:nejz@192.168.245.71:3006
SEQUENCE:0
DTSTAMP:20260424T220632Z
DTSTART:20251129T130000Z
DTEND:20251129T144000Z
SUMMARY:Микроэкономика
LOCATION:50 уч.к 1217
END:VEVENT
END:VCALENDAR