BEGIN:VCALENDAR
VERSION:2.0
PRODID:-//spbstu.ru//ical//RU
NAME:Расписание группы 3753801/50003
X-WR-CALNAME:Расписание группы 3753801/50003
TIMEZONE-ID:Europe/Moscow
X-WR-TIMEZONE:Europe/Moscow
BEGIN:VEVENT
UID:1i83@192.168.245.71:3006
SEQUENCE:0
DTSTAMP:20260424T043007Z
DTSTART:20251222T090000Z
DTEND:20251222T104000Z
SUMMARY:Основы российской государственности
LOCATION:50 уч.к 1423
END:VEVENT
BEGIN:VEVENT
UID:mewu@192.168.245.71:3006
SEQUENCE:0
DTSTAMP:20260424T043007Z
DTSTART:20251223T080000Z
DTEND:20251223T090000Z
SUMMARY:Информационные системы и технологии
LOCATION:50 уч.к 1245
END:VEVENT
BEGIN:VEVENT
UID:v0a4@192.168.245.71:3006
SEQUENCE:0
DTSTAMP:20260424T043007Z
DTSTART:20251224T110000Z
DTEND:20251224T124000Z
SUMMARY:Микроэкономика
LOCATION:50 уч.к 1245
END:VEVENT
BEGIN:VEVENT
UID:xywc@192.168.245.71:3006
SEQUENCE:0
DTSTAMP:20260424T043007Z
DTSTART:20251225T070000Z
DTEND:20251225T084000Z
SUMMARY:Введение в профессиональную деятельность
LOCATION:50 уч.к 1426
END:VEVENT
BEGIN:VEVENT
UID:ff5r@192.168.245.71:3006
SEQUENCE:0
DTSTAMP:20260424T043007Z
DTSTART:20251225T110000Z
DTEND:20251225T124000Z
SUMMARY:Введение в экономическую теорию
LOCATION:50 уч.к 1422
END:VEVENT
BEGIN:VEVENT
UID:onwr@192.168.245.71:3006
SEQUENCE:0
DTSTAMP:20260424T043007Z
DTSTART:20251226T110000Z
DTEND:20251226T124000Z
SUMMARY:Высшая математика
LOCATION:50 уч.к 1327
END:VEVENT
END:VCALENDAR