BEGIN:VCALENDAR
VERSION:2.0
PRODID:-//spbstu.ru//ical//RU
NAME:Расписание группы 3753801/50003
X-WR-CALNAME:Расписание группы 3753801/50003
TIMEZONE-ID:Europe/Moscow
X-WR-TIMEZONE:Europe/Moscow
BEGIN:VEVENT
UID:j0pv@192.168.245.71:3006
SEQUENCE:0
DTSTAMP:20260422T042807Z
DTSTART:20260330T070000Z
DTEND:20260330T084000Z
SUMMARY:Элективная  физическая культура и спорт
LOCATION:СК Спортивный зал
END:VEVENT
BEGIN:VEVENT
UID:5c13@192.168.245.71:3006
SEQUENCE:0
DTSTAMP:20260422T042807Z
DTSTART:20260331T090000Z
DTEND:20260331T104000Z
SUMMARY:Макроэкономика
LOCATION:50 уч.к 1327
END:VEVENT
BEGIN:VEVENT
UID:iywb@192.168.245.71:3006
SEQUENCE:0
DTSTAMP:20260422T042807Z
DTSTART:20260331T110000Z
DTEND:20260331T124000Z
SUMMARY:Экономика предприятия
LOCATION:50 уч.к 1422
END:VEVENT
BEGIN:VEVENT
UID:dx0j@192.168.245.71:3006
SEQUENCE:0
DTSTAMP:20260422T042807Z
DTSTART:20260401T090000Z
DTEND:20260401T104000Z
SUMMARY:Основы государственной регламентации деятельности организации
LOCATION:50 уч.к 1239
END:VEVENT
BEGIN:VEVENT
UID:5de5@192.168.245.71:3006
SEQUENCE:0
DTSTAMP:20260422T042807Z
DTSTART:20260401T110000Z
DTEND:20260401T124000Z
SUMMARY:Макроэкономика
LOCATION:50 уч.к 1214
END:VEVENT
BEGIN:VEVENT
UID:q57o@192.168.245.71:3006
SEQUENCE:0
DTSTAMP:20260422T042807Z
DTSTART:20260401T150000Z
DTEND:20260401T164000Z
SUMMARY:Высшая математика
LOCATION:50 уч.к 1323
END:VEVENT
BEGIN:VEVENT
UID:nv2c@192.168.245.71:3006
SEQUENCE:0
DTSTAMP:20260422T042807Z
DTSTART:20260402T050000Z
DTEND:20260402T064000Z
SUMMARY:Элективная  физическая культура и спорт
LOCATION:СК Спортивный зал
END:VEVENT
BEGIN:VEVENT
UID:l7y3@192.168.245.71:3006
SEQUENCE:0
DTSTAMP:20260422T042807Z
DTSTART:20260402T070000Z
DTEND:20260402T084000Z
SUMMARY:Иностранный язык: Базовый курс
LOCATION:16 к. 406
END:VEVENT
BEGIN:VEVENT
UID:fg2c@192.168.245.71:3006
SEQUENCE:0
DTSTAMP:20260422T042807Z
DTSTART:20260403T090000Z
DTEND:20260403T104000Z
SUMMARY:Высшая математика
LOCATION:50 уч.к 1341
END:VEVENT
BEGIN:VEVENT
UID:euaw@192.168.245.71:3006
SEQUENCE:0
DTSTAMP:20260422T042807Z
DTSTART:20260403T110000Z
DTEND:20260403T124000Z
SUMMARY:Цифровые средства обработки данных
LOCATION:50 уч.к 1109
END:VEVENT
BEGIN:VEVENT
UID:drph@192.168.245.71:3006
SEQUENCE:0
DTSTAMP:20260422T042807Z
DTSTART:20260404T090000Z
DTEND:20260404T104000Z
SUMMARY:Концепции современного естествознания
LOCATION:50 уч.к 1418
END:VEVENT
BEGIN:VEVENT
UID:439u@192.168.245.71:3006
SEQUENCE:0
DTSTAMP:20260422T042807Z
DTSTART:20260404T110000Z
DTEND:20260404T124000Z
SUMMARY:Высшая математика
LOCATION:50 уч.к 1326
END:VEVENT
BEGIN:VEVENT
UID:ia81@192.168.245.71:3006
SEQUENCE:0
DTSTAMP:20260422T042807Z
DTSTART:20260404T130000Z
DTEND:20260404T144000Z
SUMMARY:История России
LOCATION:50 уч.к 1250
END:VEVENT
END:VCALENDAR